BEGIN:VCALENDAR
VERSION:2.0
PRODID:-//Mars Hill Network - ECPv6.15.20//NONSGML v1.0//EN
CALSCALE:GREGORIAN
METHOD:PUBLISH
X-WR-CALNAME:Mars Hill Network
X-ORIGINAL-URL:https://www.marshillnetwork.org
X-WR-CALDESC:Events for Mars Hill Network
REFRESH-INTERVAL;VALUE=DURATION:PT1H
X-Robots-Tag:noindex
X-PUBLISHED-TTL:PT1H
BEGIN:VTIMEZONE
TZID:America/New_York
BEGIN:DAYLIGHT
TZOFFSETFROM:-0500
TZOFFSETTO:-0400
TZNAME:EDT
DTSTART:20260308T070000
END:DAYLIGHT
BEGIN:STANDARD
TZOFFSETFROM:-0400
TZOFFSETTO:-0500
TZNAME:EST
DTSTART:20261101T060000
END:STANDARD
BEGIN:DAYLIGHT
TZOFFSETFROM:-0500
TZOFFSETTO:-0400
TZNAME:EDT
DTSTART:20270314T070000
END:DAYLIGHT
BEGIN:STANDARD
TZOFFSETFROM:-0400
TZOFFSETTO:-0500
TZNAME:EST
DTSTART:20271107T060000
END:STANDARD
BEGIN:DAYLIGHT
TZOFFSETFROM:-0500
TZOFFSETTO:-0400
TZNAME:EDT
DTSTART:20280312T070000
END:DAYLIGHT
BEGIN:STANDARD
TZOFFSETFROM:-0400
TZOFFSETTO:-0500
TZNAME:EST
DTSTART:20281105T060000
END:STANDARD
END:VTIMEZONE
BEGIN:VEVENT
DTSTART;TZID=America/New_York:20270102T100000
DTEND;TZID=America/New_York:20270102T140000
DTSTAMP:20260419T092359
CREATED:20250929T130227Z
LAST-MODIFIED:20250929T130227Z
UID:10000875-1798884000-1798898400@www.marshillnetwork.org
SUMMARY:2nd Chance Shop
DESCRIPTION:Palermo Community Church has the 2nd Chance Shoppe open every Saturday from 10am-2pm. Clothing in every size as well as household items and craft supplies. For further information call 315-591-4468.
URL:https://www.marshillnetwork.org/events/2nd-chance-shop/2027-01-02/
LOCATION:Palermo Community Church\, 11 County Route 35\, Fulton\, NY\, 13069\, United States
ORGANIZER;CN="Palermo Community Church":MAILTO:PalermoCommunityChurch@gmail.com
END:VEVENT
BEGIN:VEVENT
DTSTART;TZID=America/New_York:20270109T100000
DTEND;TZID=America/New_York:20270109T140000
DTSTAMP:20260419T092359
CREATED:20250929T130227Z
LAST-MODIFIED:20250929T130227Z
UID:10000876-1799488800-1799503200@www.marshillnetwork.org
SUMMARY:2nd Chance Shop
DESCRIPTION:Palermo Community Church has the 2nd Chance Shoppe open every Saturday from 10am-2pm. Clothing in every size as well as household items and craft supplies. For further information call 315-591-4468.
URL:https://www.marshillnetwork.org/events/2nd-chance-shop/2027-01-09/
LOCATION:Palermo Community Church\, 11 County Route 35\, Fulton\, NY\, 13069\, United States
ORGANIZER;CN="Palermo Community Church":MAILTO:PalermoCommunityChurch@gmail.com
END:VEVENT
BEGIN:VEVENT
DTSTART;TZID=America/New_York:20270116T100000
DTEND;TZID=America/New_York:20270116T140000
DTSTAMP:20260419T092359
CREATED:20250929T130227Z
LAST-MODIFIED:20250929T130227Z
UID:10000877-1800093600-1800108000@www.marshillnetwork.org
SUMMARY:2nd Chance Shop
DESCRIPTION:Palermo Community Church has the 2nd Chance Shoppe open every Saturday from 10am-2pm. Clothing in every size as well as household items and craft supplies. For further information call 315-591-4468.
URL:https://www.marshillnetwork.org/events/2nd-chance-shop/2027-01-16/
LOCATION:Palermo Community Church\, 11 County Route 35\, Fulton\, NY\, 13069\, United States
ORGANIZER;CN="Palermo Community Church":MAILTO:PalermoCommunityChurch@gmail.com
END:VEVENT
BEGIN:VEVENT
DTSTART;TZID=America/New_York:20270123T100000
DTEND;TZID=America/New_York:20270123T140000
DTSTAMP:20260419T092359
CREATED:20250929T130227Z
LAST-MODIFIED:20250929T130227Z
UID:10000878-1800698400-1800712800@www.marshillnetwork.org
SUMMARY:2nd Chance Shop
DESCRIPTION:Palermo Community Church has the 2nd Chance Shoppe open every Saturday from 10am-2pm. Clothing in every size as well as household items and craft supplies. For further information call 315-591-4468.
URL:https://www.marshillnetwork.org/events/2nd-chance-shop/2027-01-23/
LOCATION:Palermo Community Church\, 11 County Route 35\, Fulton\, NY\, 13069\, United States
ORGANIZER;CN="Palermo Community Church":MAILTO:PalermoCommunityChurch@gmail.com
END:VEVENT
BEGIN:VEVENT
DTSTART;TZID=America/New_York:20270130T100000
DTEND;TZID=America/New_York:20270130T140000
DTSTAMP:20260419T092359
CREATED:20250929T130227Z
LAST-MODIFIED:20250929T130227Z
UID:10000879-1801303200-1801317600@www.marshillnetwork.org
SUMMARY:2nd Chance Shop
DESCRIPTION:Palermo Community Church has the 2nd Chance Shoppe open every Saturday from 10am-2pm. Clothing in every size as well as household items and craft supplies. For further information call 315-591-4468.
URL:https://www.marshillnetwork.org/events/2nd-chance-shop/2027-01-30/
LOCATION:Palermo Community Church\, 11 County Route 35\, Fulton\, NY\, 13069\, United States
ORGANIZER;CN="Palermo Community Church":MAILTO:PalermoCommunityChurch@gmail.com
END:VEVENT
BEGIN:VEVENT
DTSTART;TZID=America/New_York:20270206T100000
DTEND;TZID=America/New_York:20270206T140000
DTSTAMP:20260419T092359
CREATED:20250929T130227Z
LAST-MODIFIED:20250929T130227Z
UID:10000880-1801908000-1801922400@www.marshillnetwork.org
SUMMARY:2nd Chance Shop
DESCRIPTION:Palermo Community Church has the 2nd Chance Shoppe open every Saturday from 10am-2pm. Clothing in every size as well as household items and craft supplies. For further information call 315-591-4468.
URL:https://www.marshillnetwork.org/events/2nd-chance-shop/2027-02-06/
LOCATION:Palermo Community Church\, 11 County Route 35\, Fulton\, NY\, 13069\, United States
ORGANIZER;CN="Palermo Community Church":MAILTO:PalermoCommunityChurch@gmail.com
END:VEVENT
BEGIN:VEVENT
DTSTART;TZID=America/New_York:20270213T100000
DTEND;TZID=America/New_York:20270213T140000
DTSTAMP:20260419T092359
CREATED:20250929T130227Z
LAST-MODIFIED:20250929T130227Z
UID:10000881-1802512800-1802527200@www.marshillnetwork.org
SUMMARY:2nd Chance Shop
DESCRIPTION:Palermo Community Church has the 2nd Chance Shoppe open every Saturday from 10am-2pm. Clothing in every size as well as household items and craft supplies. For further information call 315-591-4468.
URL:https://www.marshillnetwork.org/events/2nd-chance-shop/2027-02-13/
LOCATION:Palermo Community Church\, 11 County Route 35\, Fulton\, NY\, 13069\, United States
ORGANIZER;CN="Palermo Community Church":MAILTO:PalermoCommunityChurch@gmail.com
END:VEVENT
BEGIN:VEVENT
DTSTART;TZID=America/New_York:20270220T100000
DTEND;TZID=America/New_York:20270220T140000
DTSTAMP:20260419T092359
CREATED:20250929T130227Z
LAST-MODIFIED:20250929T130227Z
UID:10000882-1803117600-1803132000@www.marshillnetwork.org
SUMMARY:2nd Chance Shop
DESCRIPTION:Palermo Community Church has the 2nd Chance Shoppe open every Saturday from 10am-2pm. Clothing in every size as well as household items and craft supplies. For further information call 315-591-4468.
URL:https://www.marshillnetwork.org/events/2nd-chance-shop/2027-02-20/
LOCATION:Palermo Community Church\, 11 County Route 35\, Fulton\, NY\, 13069\, United States
ORGANIZER;CN="Palermo Community Church":MAILTO:PalermoCommunityChurch@gmail.com
END:VEVENT
BEGIN:VEVENT
DTSTART;TZID=America/New_York:20270227T100000
DTEND;TZID=America/New_York:20270227T140000
DTSTAMP:20260419T092359
CREATED:20250929T130227Z
LAST-MODIFIED:20250929T130227Z
UID:10000883-1803722400-1803736800@www.marshillnetwork.org
SUMMARY:2nd Chance Shop
DESCRIPTION:Palermo Community Church has the 2nd Chance Shoppe open every Saturday from 10am-2pm. Clothing in every size as well as household items and craft supplies. For further information call 315-591-4468.
URL:https://www.marshillnetwork.org/events/2nd-chance-shop/2027-02-27/
LOCATION:Palermo Community Church\, 11 County Route 35\, Fulton\, NY\, 13069\, United States
ORGANIZER;CN="Palermo Community Church":MAILTO:PalermoCommunityChurch@gmail.com
END:VEVENT
BEGIN:VEVENT
DTSTART;TZID=America/New_York:20270306T100000
DTEND;TZID=America/New_York:20270306T140000
DTSTAMP:20260419T092359
CREATED:20250929T130227Z
LAST-MODIFIED:20250929T130227Z
UID:10000884-1804327200-1804341600@www.marshillnetwork.org
SUMMARY:2nd Chance Shop
DESCRIPTION:Palermo Community Church has the 2nd Chance Shoppe open every Saturday from 10am-2pm. Clothing in every size as well as household items and craft supplies. For further information call 315-591-4468.
URL:https://www.marshillnetwork.org/events/2nd-chance-shop/2027-03-06/
LOCATION:Palermo Community Church\, 11 County Route 35\, Fulton\, NY\, 13069\, United States
ORGANIZER;CN="Palermo Community Church":MAILTO:PalermoCommunityChurch@gmail.com
END:VEVENT
BEGIN:VEVENT
DTSTART;TZID=America/New_York:20270313T100000
DTEND;TZID=America/New_York:20270313T140000
DTSTAMP:20260419T092359
CREATED:20250929T130227Z
LAST-MODIFIED:20250929T130227Z
UID:10000885-1804932000-1804946400@www.marshillnetwork.org
SUMMARY:2nd Chance Shop
DESCRIPTION:Palermo Community Church has the 2nd Chance Shoppe open every Saturday from 10am-2pm. Clothing in every size as well as household items and craft supplies. For further information call 315-591-4468.
URL:https://www.marshillnetwork.org/events/2nd-chance-shop/2027-03-13/
LOCATION:Palermo Community Church\, 11 County Route 35\, Fulton\, NY\, 13069\, United States
ORGANIZER;CN="Palermo Community Church":MAILTO:PalermoCommunityChurch@gmail.com
END:VEVENT
BEGIN:VEVENT
DTSTART;TZID=America/New_York:20270320T100000
DTEND;TZID=America/New_York:20270320T140000
DTSTAMP:20260419T092359
CREATED:20250929T130227Z
LAST-MODIFIED:20250929T130227Z
UID:10000886-1805536800-1805551200@www.marshillnetwork.org
SUMMARY:2nd Chance Shop
DESCRIPTION:Palermo Community Church has the 2nd Chance Shoppe open every Saturday from 10am-2pm. Clothing in every size as well as household items and craft supplies. For further information call 315-591-4468.
URL:https://www.marshillnetwork.org/events/2nd-chance-shop/2027-03-20/
LOCATION:Palermo Community Church\, 11 County Route 35\, Fulton\, NY\, 13069\, United States
ORGANIZER;CN="Palermo Community Church":MAILTO:PalermoCommunityChurch@gmail.com
END:VEVENT
BEGIN:VEVENT
DTSTART;TZID=America/New_York:20270327T100000
DTEND;TZID=America/New_York:20270327T140000
DTSTAMP:20260419T092359
CREATED:20250929T130227Z
LAST-MODIFIED:20250929T130227Z
UID:10000887-1806141600-1806156000@www.marshillnetwork.org
SUMMARY:2nd Chance Shop
DESCRIPTION:Palermo Community Church has the 2nd Chance Shoppe open every Saturday from 10am-2pm. Clothing in every size as well as household items and craft supplies. For further information call 315-591-4468.
URL:https://www.marshillnetwork.org/events/2nd-chance-shop/2027-03-27/
LOCATION:Palermo Community Church\, 11 County Route 35\, Fulton\, NY\, 13069\, United States
ORGANIZER;CN="Palermo Community Church":MAILTO:PalermoCommunityChurch@gmail.com
END:VEVENT
BEGIN:VEVENT
DTSTART;TZID=America/New_York:20270403T100000
DTEND;TZID=America/New_York:20270403T140000
DTSTAMP:20260419T092359
CREATED:20250929T130227Z
LAST-MODIFIED:20250929T130227Z
UID:10000888-1806746400-1806760800@www.marshillnetwork.org
SUMMARY:2nd Chance Shop
DESCRIPTION:Palermo Community Church has the 2nd Chance Shoppe open every Saturday from 10am-2pm. Clothing in every size as well as household items and craft supplies. For further information call 315-591-4468.
URL:https://www.marshillnetwork.org/events/2nd-chance-shop/2027-04-03/
LOCATION:Palermo Community Church\, 11 County Route 35\, Fulton\, NY\, 13069\, United States
ORGANIZER;CN="Palermo Community Church":MAILTO:PalermoCommunityChurch@gmail.com
END:VEVENT
BEGIN:VEVENT
DTSTART;TZID=America/New_York:20270410T100000
DTEND;TZID=America/New_York:20270410T140000
DTSTAMP:20260419T092359
CREATED:20250929T130227Z
LAST-MODIFIED:20250929T130227Z
UID:10000889-1807351200-1807365600@www.marshillnetwork.org
SUMMARY:2nd Chance Shop
DESCRIPTION:Palermo Community Church has the 2nd Chance Shoppe open every Saturday from 10am-2pm. Clothing in every size as well as household items and craft supplies. For further information call 315-591-4468.
URL:https://www.marshillnetwork.org/events/2nd-chance-shop/2027-04-10/
LOCATION:Palermo Community Church\, 11 County Route 35\, Fulton\, NY\, 13069\, United States
ORGANIZER;CN="Palermo Community Church":MAILTO:PalermoCommunityChurch@gmail.com
END:VEVENT
BEGIN:VEVENT
DTSTART;TZID=America/New_York:20270417T100000
DTEND;TZID=America/New_York:20270417T140000
DTSTAMP:20260419T092359
CREATED:20250929T130227Z
LAST-MODIFIED:20250929T130227Z
UID:10000890-1807956000-1807970400@www.marshillnetwork.org
SUMMARY:2nd Chance Shop
DESCRIPTION:Palermo Community Church has the 2nd Chance Shoppe open every Saturday from 10am-2pm. Clothing in every size as well as household items and craft supplies. For further information call 315-591-4468.
URL:https://www.marshillnetwork.org/events/2nd-chance-shop/2027-04-17/
LOCATION:Palermo Community Church\, 11 County Route 35\, Fulton\, NY\, 13069\, United States
ORGANIZER;CN="Palermo Community Church":MAILTO:PalermoCommunityChurch@gmail.com
END:VEVENT
BEGIN:VEVENT
DTSTART;TZID=America/New_York:20270424T100000
DTEND;TZID=America/New_York:20270424T140000
DTSTAMP:20260419T092359
CREATED:20250929T130227Z
LAST-MODIFIED:20250929T130227Z
UID:10000891-1808560800-1808575200@www.marshillnetwork.org
SUMMARY:2nd Chance Shop
DESCRIPTION:Palermo Community Church has the 2nd Chance Shoppe open every Saturday from 10am-2pm. Clothing in every size as well as household items and craft supplies. For further information call 315-591-4468.
URL:https://www.marshillnetwork.org/events/2nd-chance-shop/2027-04-24/
LOCATION:Palermo Community Church\, 11 County Route 35\, Fulton\, NY\, 13069\, United States
ORGANIZER;CN="Palermo Community Church":MAILTO:PalermoCommunityChurch@gmail.com
END:VEVENT
BEGIN:VEVENT
DTSTART;TZID=America/New_York:20270501T100000
DTEND;TZID=America/New_York:20270501T140000
DTSTAMP:20260419T092359
CREATED:20250929T130227Z
LAST-MODIFIED:20250929T130227Z
UID:10000892-1809165600-1809180000@www.marshillnetwork.org
SUMMARY:2nd Chance Shop
DESCRIPTION:Palermo Community Church has the 2nd Chance Shoppe open every Saturday from 10am-2pm. Clothing in every size as well as household items and craft supplies. For further information call 315-591-4468.
URL:https://www.marshillnetwork.org/events/2nd-chance-shop/2027-05-01/
LOCATION:Palermo Community Church\, 11 County Route 35\, Fulton\, NY\, 13069\, United States
ORGANIZER;CN="Palermo Community Church":MAILTO:PalermoCommunityChurch@gmail.com
END:VEVENT
BEGIN:VEVENT
DTSTART;TZID=America/New_York:20270508T100000
DTEND;TZID=America/New_York:20270508T140000
DTSTAMP:20260419T092359
CREATED:20250929T130227Z
LAST-MODIFIED:20250929T130227Z
UID:10000893-1809770400-1809784800@www.marshillnetwork.org
SUMMARY:2nd Chance Shop
DESCRIPTION:Palermo Community Church has the 2nd Chance Shoppe open every Saturday from 10am-2pm. Clothing in every size as well as household items and craft supplies. For further information call 315-591-4468.
URL:https://www.marshillnetwork.org/events/2nd-chance-shop/2027-05-08/
LOCATION:Palermo Community Church\, 11 County Route 35\, Fulton\, NY\, 13069\, United States
ORGANIZER;CN="Palermo Community Church":MAILTO:PalermoCommunityChurch@gmail.com
END:VEVENT
BEGIN:VEVENT
DTSTART;TZID=America/New_York:20270515T100000
DTEND;TZID=America/New_York:20270515T140000
DTSTAMP:20260419T092359
CREATED:20250929T130227Z
LAST-MODIFIED:20250929T130227Z
UID:10000894-1810375200-1810389600@www.marshillnetwork.org
SUMMARY:2nd Chance Shop
DESCRIPTION:Palermo Community Church has the 2nd Chance Shoppe open every Saturday from 10am-2pm. Clothing in every size as well as household items and craft supplies. For further information call 315-591-4468.
URL:https://www.marshillnetwork.org/events/2nd-chance-shop/2027-05-15/
LOCATION:Palermo Community Church\, 11 County Route 35\, Fulton\, NY\, 13069\, United States
ORGANIZER;CN="Palermo Community Church":MAILTO:PalermoCommunityChurch@gmail.com
END:VEVENT
BEGIN:VEVENT
DTSTART;TZID=America/New_York:20270522T100000
DTEND;TZID=America/New_York:20270522T140000
DTSTAMP:20260419T092359
CREATED:20250929T130227Z
LAST-MODIFIED:20250929T130227Z
UID:10000895-1810980000-1810994400@www.marshillnetwork.org
SUMMARY:2nd Chance Shop
DESCRIPTION:Palermo Community Church has the 2nd Chance Shoppe open every Saturday from 10am-2pm. Clothing in every size as well as household items and craft supplies. For further information call 315-591-4468.
URL:https://www.marshillnetwork.org/events/2nd-chance-shop/2027-05-22/
LOCATION:Palermo Community Church\, 11 County Route 35\, Fulton\, NY\, 13069\, United States
ORGANIZER;CN="Palermo Community Church":MAILTO:PalermoCommunityChurch@gmail.com
END:VEVENT
BEGIN:VEVENT
DTSTART;TZID=America/New_York:20270529T100000
DTEND;TZID=America/New_York:20270529T140000
DTSTAMP:20260419T092359
CREATED:20250929T130227Z
LAST-MODIFIED:20250929T130227Z
UID:10000896-1811584800-1811599200@www.marshillnetwork.org
SUMMARY:2nd Chance Shop
DESCRIPTION:Palermo Community Church has the 2nd Chance Shoppe open every Saturday from 10am-2pm. Clothing in every size as well as household items and craft supplies. For further information call 315-591-4468.
URL:https://www.marshillnetwork.org/events/2nd-chance-shop/2027-05-29/
LOCATION:Palermo Community Church\, 11 County Route 35\, Fulton\, NY\, 13069\, United States
ORGANIZER;CN="Palermo Community Church":MAILTO:PalermoCommunityChurch@gmail.com
END:VEVENT
BEGIN:VEVENT
DTSTART;TZID=America/New_York:20270605T100000
DTEND;TZID=America/New_York:20270605T140000
DTSTAMP:20260419T092359
CREATED:20250929T130227Z
LAST-MODIFIED:20250929T130227Z
UID:10000897-1812189600-1812204000@www.marshillnetwork.org
SUMMARY:2nd Chance Shop
DESCRIPTION:Palermo Community Church has the 2nd Chance Shoppe open every Saturday from 10am-2pm. Clothing in every size as well as household items and craft supplies. For further information call 315-591-4468.
URL:https://www.marshillnetwork.org/events/2nd-chance-shop/2027-06-05/
LOCATION:Palermo Community Church\, 11 County Route 35\, Fulton\, NY\, 13069\, United States
ORGANIZER;CN="Palermo Community Church":MAILTO:PalermoCommunityChurch@gmail.com
END:VEVENT
BEGIN:VEVENT
DTSTART;TZID=America/New_York:20270612T100000
DTEND;TZID=America/New_York:20270612T140000
DTSTAMP:20260419T092359
CREATED:20250929T130227Z
LAST-MODIFIED:20250929T130227Z
UID:10000898-1812794400-1812808800@www.marshillnetwork.org
SUMMARY:2nd Chance Shop
DESCRIPTION:Palermo Community Church has the 2nd Chance Shoppe open every Saturday from 10am-2pm. Clothing in every size as well as household items and craft supplies. For further information call 315-591-4468.
URL:https://www.marshillnetwork.org/events/2nd-chance-shop/2027-06-12/
LOCATION:Palermo Community Church\, 11 County Route 35\, Fulton\, NY\, 13069\, United States
ORGANIZER;CN="Palermo Community Church":MAILTO:PalermoCommunityChurch@gmail.com
END:VEVENT
BEGIN:VEVENT
DTSTART;TZID=America/New_York:20270619T100000
DTEND;TZID=America/New_York:20270619T140000
DTSTAMP:20260419T092359
CREATED:20250929T130227Z
LAST-MODIFIED:20250929T130227Z
UID:10000899-1813399200-1813413600@www.marshillnetwork.org
SUMMARY:2nd Chance Shop
DESCRIPTION:Palermo Community Church has the 2nd Chance Shoppe open every Saturday from 10am-2pm. Clothing in every size as well as household items and craft supplies. For further information call 315-591-4468.
URL:https://www.marshillnetwork.org/events/2nd-chance-shop/2027-06-19/
LOCATION:Palermo Community Church\, 11 County Route 35\, Fulton\, NY\, 13069\, United States
ORGANIZER;CN="Palermo Community Church":MAILTO:PalermoCommunityChurch@gmail.com
END:VEVENT
BEGIN:VEVENT
DTSTART;TZID=America/New_York:20270626T100000
DTEND;TZID=America/New_York:20270626T140000
DTSTAMP:20260419T092359
CREATED:20250929T130227Z
LAST-MODIFIED:20250929T130227Z
UID:10000900-1814004000-1814018400@www.marshillnetwork.org
SUMMARY:2nd Chance Shop
DESCRIPTION:Palermo Community Church has the 2nd Chance Shoppe open every Saturday from 10am-2pm. Clothing in every size as well as household items and craft supplies. For further information call 315-591-4468.
URL:https://www.marshillnetwork.org/events/2nd-chance-shop/2027-06-26/
LOCATION:Palermo Community Church\, 11 County Route 35\, Fulton\, NY\, 13069\, United States
ORGANIZER;CN="Palermo Community Church":MAILTO:PalermoCommunityChurch@gmail.com
END:VEVENT
BEGIN:VEVENT
DTSTART;TZID=America/New_York:20270703T100000
DTEND;TZID=America/New_York:20270703T140000
DTSTAMP:20260419T092359
CREATED:20250929T130227Z
LAST-MODIFIED:20250929T130227Z
UID:10000901-1814608800-1814623200@www.marshillnetwork.org
SUMMARY:2nd Chance Shop
DESCRIPTION:Palermo Community Church has the 2nd Chance Shoppe open every Saturday from 10am-2pm. Clothing in every size as well as household items and craft supplies. For further information call 315-591-4468.
URL:https://www.marshillnetwork.org/events/2nd-chance-shop/2027-07-03/
LOCATION:Palermo Community Church\, 11 County Route 35\, Fulton\, NY\, 13069\, United States
ORGANIZER;CN="Palermo Community Church":MAILTO:PalermoCommunityChurch@gmail.com
END:VEVENT
BEGIN:VEVENT
DTSTART;TZID=America/New_York:20270710T100000
DTEND;TZID=America/New_York:20270710T140000
DTSTAMP:20260419T092359
CREATED:20250929T130227Z
LAST-MODIFIED:20250929T130227Z
UID:10000902-1815213600-1815228000@www.marshillnetwork.org
SUMMARY:2nd Chance Shop
DESCRIPTION:Palermo Community Church has the 2nd Chance Shoppe open every Saturday from 10am-2pm. Clothing in every size as well as household items and craft supplies. For further information call 315-591-4468.
URL:https://www.marshillnetwork.org/events/2nd-chance-shop/2027-07-10/
LOCATION:Palermo Community Church\, 11 County Route 35\, Fulton\, NY\, 13069\, United States
ORGANIZER;CN="Palermo Community Church":MAILTO:PalermoCommunityChurch@gmail.com
END:VEVENT
BEGIN:VEVENT
DTSTART;TZID=America/New_York:20270717T100000
DTEND;TZID=America/New_York:20270717T140000
DTSTAMP:20260419T092359
CREATED:20250929T130227Z
LAST-MODIFIED:20250929T130227Z
UID:10000903-1815818400-1815832800@www.marshillnetwork.org
SUMMARY:2nd Chance Shop
DESCRIPTION:Palermo Community Church has the 2nd Chance Shoppe open every Saturday from 10am-2pm. Clothing in every size as well as household items and craft supplies. For further information call 315-591-4468.
URL:https://www.marshillnetwork.org/events/2nd-chance-shop/2027-07-17/
LOCATION:Palermo Community Church\, 11 County Route 35\, Fulton\, NY\, 13069\, United States
ORGANIZER;CN="Palermo Community Church":MAILTO:PalermoCommunityChurch@gmail.com
END:VEVENT
BEGIN:VEVENT
DTSTART;TZID=America/New_York:20270724T100000
DTEND;TZID=America/New_York:20270724T140000
DTSTAMP:20260419T092359
CREATED:20250929T130227Z
LAST-MODIFIED:20250929T130227Z
UID:10000904-1816423200-1816437600@www.marshillnetwork.org
SUMMARY:2nd Chance Shop
DESCRIPTION:Palermo Community Church has the 2nd Chance Shoppe open every Saturday from 10am-2pm. Clothing in every size as well as household items and craft supplies. For further information call 315-591-4468.
URL:https://www.marshillnetwork.org/events/2nd-chance-shop/2027-07-24/
LOCATION:Palermo Community Church\, 11 County Route 35\, Fulton\, NY\, 13069\, United States
ORGANIZER;CN="Palermo Community Church":MAILTO:PalermoCommunityChurch@gmail.com
END:VEVENT
END:VCALENDAR