BEGIN:VCALENDAR
VERSION:2.0
PRODID:-//Mars Hill Network - ECPv6.15.20//NONSGML v1.0//EN
CALSCALE:GREGORIAN
METHOD:PUBLISH
X-ORIGINAL-URL:https://www.marshillnetwork.org
X-WR-CALDESC:Events for Mars Hill Network
REFRESH-INTERVAL;VALUE=DURATION:PT1H
X-Robots-Tag:noindex
X-PUBLISHED-TTL:PT1H
BEGIN:VTIMEZONE
TZID:America/New_York
BEGIN:DAYLIGHT
TZOFFSETFROM:-0500
TZOFFSETTO:-0400
TZNAME:EDT
DTSTART:20240310T070000
END:DAYLIGHT
BEGIN:STANDARD
TZOFFSETFROM:-0400
TZOFFSETTO:-0500
TZNAME:EST
DTSTART:20241103T060000
END:STANDARD
BEGIN:DAYLIGHT
TZOFFSETFROM:-0500
TZOFFSETTO:-0400
TZNAME:EDT
DTSTART:20250309T070000
END:DAYLIGHT
BEGIN:STANDARD
TZOFFSETFROM:-0400
TZOFFSETTO:-0500
TZNAME:EST
DTSTART:20251102T060000
END:STANDARD
BEGIN:DAYLIGHT
TZOFFSETFROM:-0500
TZOFFSETTO:-0400
TZNAME:EDT
DTSTART:20260308T070000
END:DAYLIGHT
BEGIN:STANDARD
TZOFFSETFROM:-0400
TZOFFSETTO:-0500
TZNAME:EST
DTSTART:20261101T060000
END:STANDARD
BEGIN:DAYLIGHT
TZOFFSETFROM:-0500
TZOFFSETTO:-0400
TZNAME:EDT
DTSTART:20270314T070000
END:DAYLIGHT
BEGIN:STANDARD
TZOFFSETFROM:-0400
TZOFFSETTO:-0500
TZNAME:EST
DTSTART:20271107T060000
END:STANDARD
END:VTIMEZONE
BEGIN:VEVENT
DTSTART;TZID=America/New_York:20260422T190000
DTEND;TZID=America/New_York:20260422T200000
DTSTAMP:20260423T110420
CREATED:20251201T140658Z
LAST-MODIFIED:20251203T141839Z
UID:10001354-1776884400-1776888000@www.marshillnetwork.org
SUMMARY:Wednesday Evening Church at Meridian Baptist Church
DESCRIPTION:Mid-week services are starting at Meridian Baptist Church Meridian NY . Music\, Praise and the Word starting on December 3rd at 7pm
URL:https://www.marshillnetwork.org/events/wednesday-evening-church-at-meridian-baptist-church/2026-04-22/
LOCATION:Meridian Baptist Church\, NY-370\, Meridian\, NY\, 13113\, United States
ATTACH;FMTTYPE=image/png:https://www.marshillnetwork.org/wp-content/uploads/2025/11/evening-church-sign.png
END:VEVENT
BEGIN:VEVENT
DTSTART;TZID=America/New_York:20260415T190000
DTEND;TZID=America/New_York:20260415T200000
DTSTAMP:20260423T110420
CREATED:20251201T140658Z
LAST-MODIFIED:20251203T141839Z
UID:10001353-1776279600-1776283200@www.marshillnetwork.org
SUMMARY:Wednesday Evening Church at Meridian Baptist Church
DESCRIPTION:Mid-week services are starting at Meridian Baptist Church Meridian NY . Music\, Praise and the Word starting on December 3rd at 7pm
URL:https://www.marshillnetwork.org/events/wednesday-evening-church-at-meridian-baptist-church/2026-04-15/
LOCATION:Meridian Baptist Church\, NY-370\, Meridian\, NY\, 13113\, United States
ATTACH;FMTTYPE=image/png:https://www.marshillnetwork.org/wp-content/uploads/2025/11/evening-church-sign.png
END:VEVENT
BEGIN:VEVENT
DTSTART;TZID=America/New_York:20260408T190000
DTEND;TZID=America/New_York:20260408T200000
DTSTAMP:20260423T110420
CREATED:20251201T140658Z
LAST-MODIFIED:20251203T141839Z
UID:10001352-1775674800-1775678400@www.marshillnetwork.org
SUMMARY:Wednesday Evening Church at Meridian Baptist Church
DESCRIPTION:Mid-week services are starting at Meridian Baptist Church Meridian NY . Music\, Praise and the Word starting on December 3rd at 7pm
URL:https://www.marshillnetwork.org/events/wednesday-evening-church-at-meridian-baptist-church/2026-04-08/
LOCATION:Meridian Baptist Church\, NY-370\, Meridian\, NY\, 13113\, United States
ATTACH;FMTTYPE=image/png:https://www.marshillnetwork.org/wp-content/uploads/2025/11/evening-church-sign.png
END:VEVENT
BEGIN:VEVENT
DTSTART;TZID=America/New_York:20260401T190000
DTEND;TZID=America/New_York:20260401T200000
DTSTAMP:20260423T110420
CREATED:20251201T140658Z
LAST-MODIFIED:20251203T141839Z
UID:10001351-1775070000-1775073600@www.marshillnetwork.org
SUMMARY:Wednesday Evening Church at Meridian Baptist Church
DESCRIPTION:Mid-week services are starting at Meridian Baptist Church Meridian NY . Music\, Praise and the Word starting on December 3rd at 7pm
URL:https://www.marshillnetwork.org/events/wednesday-evening-church-at-meridian-baptist-church/2026-04-01/
LOCATION:Meridian Baptist Church\, NY-370\, Meridian\, NY\, 13113\, United States
ATTACH;FMTTYPE=image/png:https://www.marshillnetwork.org/wp-content/uploads/2025/11/evening-church-sign.png
END:VEVENT
BEGIN:VEVENT
DTSTART;TZID=America/New_York:20260325T190000
DTEND;TZID=America/New_York:20260325T200000
DTSTAMP:20260423T110420
CREATED:20251201T140658Z
LAST-MODIFIED:20251203T141839Z
UID:10001350-1774465200-1774468800@www.marshillnetwork.org
SUMMARY:Wednesday Evening Church at Meridian Baptist Church
DESCRIPTION:Mid-week services are starting at Meridian Baptist Church Meridian NY . Music\, Praise and the Word starting on December 3rd at 7pm
URL:https://www.marshillnetwork.org/events/wednesday-evening-church-at-meridian-baptist-church/2026-03-25/
LOCATION:Meridian Baptist Church\, NY-370\, Meridian\, NY\, 13113\, United States
ATTACH;FMTTYPE=image/png:https://www.marshillnetwork.org/wp-content/uploads/2025/11/evening-church-sign.png
END:VEVENT
BEGIN:VEVENT
DTSTART;TZID=America/New_York:20260318T190000
DTEND;TZID=America/New_York:20260318T200000
DTSTAMP:20260423T110420
CREATED:20251201T140658Z
LAST-MODIFIED:20251203T141839Z
UID:10001349-1773860400-1773864000@www.marshillnetwork.org
SUMMARY:Wednesday Evening Church at Meridian Baptist Church
DESCRIPTION:Mid-week services are starting at Meridian Baptist Church Meridian NY . Music\, Praise and the Word starting on December 3rd at 7pm
URL:https://www.marshillnetwork.org/events/wednesday-evening-church-at-meridian-baptist-church/2026-03-18/
LOCATION:Meridian Baptist Church\, NY-370\, Meridian\, NY\, 13113\, United States
ATTACH;FMTTYPE=image/png:https://www.marshillnetwork.org/wp-content/uploads/2025/11/evening-church-sign.png
END:VEVENT
BEGIN:VEVENT
DTSTART;TZID=America/New_York:20260311T190000
DTEND;TZID=America/New_York:20260311T200000
DTSTAMP:20260423T110420
CREATED:20251201T140658Z
LAST-MODIFIED:20251203T141839Z
UID:10001348-1773255600-1773259200@www.marshillnetwork.org
SUMMARY:Wednesday Evening Church at Meridian Baptist Church
DESCRIPTION:Mid-week services are starting at Meridian Baptist Church Meridian NY . Music\, Praise and the Word starting on December 3rd at 7pm
URL:https://www.marshillnetwork.org/events/wednesday-evening-church-at-meridian-baptist-church/2026-03-11/
LOCATION:Meridian Baptist Church\, NY-370\, Meridian\, NY\, 13113\, United States
ATTACH;FMTTYPE=image/png:https://www.marshillnetwork.org/wp-content/uploads/2025/11/evening-church-sign.png
END:VEVENT
BEGIN:VEVENT
DTSTART;TZID=America/New_York:20260304T190000
DTEND;TZID=America/New_York:20260304T200000
DTSTAMP:20260423T110420
CREATED:20251201T140658Z
LAST-MODIFIED:20251203T141839Z
UID:10001347-1772650800-1772654400@www.marshillnetwork.org
SUMMARY:Wednesday Evening Church at Meridian Baptist Church
DESCRIPTION:Mid-week services are starting at Meridian Baptist Church Meridian NY . Music\, Praise and the Word starting on December 3rd at 7pm
URL:https://www.marshillnetwork.org/events/wednesday-evening-church-at-meridian-baptist-church/2026-03-04/
LOCATION:Meridian Baptist Church\, NY-370\, Meridian\, NY\, 13113\, United States
ATTACH;FMTTYPE=image/png:https://www.marshillnetwork.org/wp-content/uploads/2025/11/evening-church-sign.png
END:VEVENT
BEGIN:VEVENT
DTSTART;TZID=America/New_York:20260225T190000
DTEND;TZID=America/New_York:20260225T200000
DTSTAMP:20260423T110420
CREATED:20251201T140658Z
LAST-MODIFIED:20251203T141839Z
UID:10001346-1772046000-1772049600@www.marshillnetwork.org
SUMMARY:Wednesday Evening Church at Meridian Baptist Church
DESCRIPTION:Mid-week services are starting at Meridian Baptist Church Meridian NY . Music\, Praise and the Word starting on December 3rd at 7pm
URL:https://www.marshillnetwork.org/events/wednesday-evening-church-at-meridian-baptist-church/2026-02-25/
LOCATION:Meridian Baptist Church\, NY-370\, Meridian\, NY\, 13113\, United States
ATTACH;FMTTYPE=image/png:https://www.marshillnetwork.org/wp-content/uploads/2025/11/evening-church-sign.png
END:VEVENT
BEGIN:VEVENT
DTSTART;TZID=America/New_York:20260218T190000
DTEND;TZID=America/New_York:20260218T200000
DTSTAMP:20260423T110420
CREATED:20251201T140658Z
LAST-MODIFIED:20251203T141839Z
UID:10001345-1771441200-1771444800@www.marshillnetwork.org
SUMMARY:Wednesday Evening Church at Meridian Baptist Church
DESCRIPTION:Mid-week services are starting at Meridian Baptist Church Meridian NY . Music\, Praise and the Word starting on December 3rd at 7pm
URL:https://www.marshillnetwork.org/events/wednesday-evening-church-at-meridian-baptist-church/2026-02-18/
LOCATION:Meridian Baptist Church\, NY-370\, Meridian\, NY\, 13113\, United States
ATTACH;FMTTYPE=image/png:https://www.marshillnetwork.org/wp-content/uploads/2025/11/evening-church-sign.png
END:VEVENT
BEGIN:VEVENT
DTSTART;TZID=America/New_York:20260211T190000
DTEND;TZID=America/New_York:20260211T200000
DTSTAMP:20260423T110420
CREATED:20251201T140658Z
LAST-MODIFIED:20251203T141839Z
UID:10001344-1770836400-1770840000@www.marshillnetwork.org
SUMMARY:Wednesday Evening Church at Meridian Baptist Church
DESCRIPTION:Mid-week services are starting at Meridian Baptist Church Meridian NY . Music\, Praise and the Word starting on December 3rd at 7pm
URL:https://www.marshillnetwork.org/events/wednesday-evening-church-at-meridian-baptist-church/2026-02-11/
LOCATION:Meridian Baptist Church\, NY-370\, Meridian\, NY\, 13113\, United States
ATTACH;FMTTYPE=image/png:https://www.marshillnetwork.org/wp-content/uploads/2025/11/evening-church-sign.png
END:VEVENT
BEGIN:VEVENT
DTSTART;TZID=America/New_York:20260204T190000
DTEND;TZID=America/New_York:20260204T200000
DTSTAMP:20260423T110420
CREATED:20251201T140658Z
LAST-MODIFIED:20251203T141839Z
UID:10001343-1770231600-1770235200@www.marshillnetwork.org
SUMMARY:Wednesday Evening Church at Meridian Baptist Church
DESCRIPTION:Mid-week services are starting at Meridian Baptist Church Meridian NY . Music\, Praise and the Word starting on December 3rd at 7pm
URL:https://www.marshillnetwork.org/events/wednesday-evening-church-at-meridian-baptist-church/2026-02-04/
LOCATION:Meridian Baptist Church\, NY-370\, Meridian\, NY\, 13113\, United States
ATTACH;FMTTYPE=image/png:https://www.marshillnetwork.org/wp-content/uploads/2025/11/evening-church-sign.png
END:VEVENT
BEGIN:VEVENT
DTSTART;TZID=America/New_York:20260128T190000
DTEND;TZID=America/New_York:20260128T200000
DTSTAMP:20260423T110420
CREATED:20251201T140658Z
LAST-MODIFIED:20251203T141839Z
UID:10001342-1769626800-1769630400@www.marshillnetwork.org
SUMMARY:Wednesday Evening Church at Meridian Baptist Church
DESCRIPTION:Mid-week services are starting at Meridian Baptist Church Meridian NY . Music\, Praise and the Word starting on December 3rd at 7pm
URL:https://www.marshillnetwork.org/events/wednesday-evening-church-at-meridian-baptist-church/2026-01-28/
LOCATION:Meridian Baptist Church\, NY-370\, Meridian\, NY\, 13113\, United States
ATTACH;FMTTYPE=image/png:https://www.marshillnetwork.org/wp-content/uploads/2025/11/evening-church-sign.png
END:VEVENT
BEGIN:VEVENT
DTSTART;TZID=America/New_York:20260121T190000
DTEND;TZID=America/New_York:20260121T200000
DTSTAMP:20260423T110420
CREATED:20251201T140658Z
LAST-MODIFIED:20251203T141839Z
UID:10001341-1769022000-1769025600@www.marshillnetwork.org
SUMMARY:Wednesday Evening Church at Meridian Baptist Church
DESCRIPTION:Mid-week services are starting at Meridian Baptist Church Meridian NY . Music\, Praise and the Word starting on December 3rd at 7pm
URL:https://www.marshillnetwork.org/events/wednesday-evening-church-at-meridian-baptist-church/2026-01-21/
LOCATION:Meridian Baptist Church\, NY-370\, Meridian\, NY\, 13113\, United States
ATTACH;FMTTYPE=image/png:https://www.marshillnetwork.org/wp-content/uploads/2025/11/evening-church-sign.png
END:VEVENT
BEGIN:VEVENT
DTSTART;TZID=America/New_York:20260114T190000
DTEND;TZID=America/New_York:20260114T200000
DTSTAMP:20260423T110420
CREATED:20251201T140658Z
LAST-MODIFIED:20251203T141839Z
UID:10001340-1768417200-1768420800@www.marshillnetwork.org
SUMMARY:Wednesday Evening Church at Meridian Baptist Church
DESCRIPTION:Mid-week services are starting at Meridian Baptist Church Meridian NY . Music\, Praise and the Word starting on December 3rd at 7pm
URL:https://www.marshillnetwork.org/events/wednesday-evening-church-at-meridian-baptist-church/2026-01-14/
LOCATION:Meridian Baptist Church\, NY-370\, Meridian\, NY\, 13113\, United States
ATTACH;FMTTYPE=image/png:https://www.marshillnetwork.org/wp-content/uploads/2025/11/evening-church-sign.png
END:VEVENT
BEGIN:VEVENT
DTSTART;TZID=America/New_York:20260107T190000
DTEND;TZID=America/New_York:20260107T200000
DTSTAMP:20260423T110420
CREATED:20251201T140658Z
LAST-MODIFIED:20251203T141839Z
UID:10001339-1767812400-1767816000@www.marshillnetwork.org
SUMMARY:Wednesday Evening Church at Meridian Baptist Church
DESCRIPTION:Mid-week services are starting at Meridian Baptist Church Meridian NY . Music\, Praise and the Word starting on December 3rd at 7pm
URL:https://www.marshillnetwork.org/events/wednesday-evening-church-at-meridian-baptist-church/2026-01-07/
LOCATION:Meridian Baptist Church\, NY-370\, Meridian\, NY\, 13113\, United States
ATTACH;FMTTYPE=image/png:https://www.marshillnetwork.org/wp-content/uploads/2025/11/evening-church-sign.png
END:VEVENT
BEGIN:VEVENT
DTSTART;TZID=America/New_York:20251231T190000
DTEND;TZID=America/New_York:20251231T200000
DTSTAMP:20260423T110420
CREATED:20251201T140658Z
LAST-MODIFIED:20251203T141839Z
UID:10001338-1767207600-1767211200@www.marshillnetwork.org
SUMMARY:Wednesday Evening Church at Meridian Baptist Church
DESCRIPTION:Mid-week services are starting at Meridian Baptist Church Meridian NY . Music\, Praise and the Word starting on December 3rd at 7pm
URL:https://www.marshillnetwork.org/events/wednesday-evening-church-at-meridian-baptist-church/2025-12-31/
LOCATION:Meridian Baptist Church\, NY-370\, Meridian\, NY\, 13113\, United States
ATTACH;FMTTYPE=image/png:https://www.marshillnetwork.org/wp-content/uploads/2025/11/evening-church-sign.png
END:VEVENT
BEGIN:VEVENT
DTSTART;TZID=America/New_York:20251224T190000
DTEND;TZID=America/New_York:20251224T200000
DTSTAMP:20260423T110420
CREATED:20251201T140658Z
LAST-MODIFIED:20251203T141839Z
UID:10001337-1766602800-1766606400@www.marshillnetwork.org
SUMMARY:Wednesday Evening Church at Meridian Baptist Church
DESCRIPTION:Mid-week services are starting at Meridian Baptist Church Meridian NY . Music\, Praise and the Word starting on December 3rd at 7pm
URL:https://www.marshillnetwork.org/events/wednesday-evening-church-at-meridian-baptist-church/2025-12-24/
LOCATION:Meridian Baptist Church\, NY-370\, Meridian\, NY\, 13113\, United States
ATTACH;FMTTYPE=image/png:https://www.marshillnetwork.org/wp-content/uploads/2025/11/evening-church-sign.png
END:VEVENT
BEGIN:VEVENT
DTSTART;TZID=America/New_York:20251217T190000
DTEND;TZID=America/New_York:20251217T200000
DTSTAMP:20260423T110420
CREATED:20251201T140658Z
LAST-MODIFIED:20251203T141839Z
UID:10001336-1765998000-1766001600@www.marshillnetwork.org
SUMMARY:Wednesday Evening Church at Meridian Baptist Church
DESCRIPTION:Mid-week services are starting at Meridian Baptist Church Meridian NY . Music\, Praise and the Word starting on December 3rd at 7pm
URL:https://www.marshillnetwork.org/events/wednesday-evening-church-at-meridian-baptist-church/2025-12-17/
LOCATION:Meridian Baptist Church\, NY-370\, Meridian\, NY\, 13113\, United States
ATTACH;FMTTYPE=image/png:https://www.marshillnetwork.org/wp-content/uploads/2025/11/evening-church-sign.png
END:VEVENT
BEGIN:VEVENT
DTSTART;TZID=America/New_York:20251210T190000
DTEND;TZID=America/New_York:20251210T200000
DTSTAMP:20260423T110420
CREATED:20251201T140658Z
LAST-MODIFIED:20251203T141839Z
UID:10001335-1765393200-1765396800@www.marshillnetwork.org
SUMMARY:Wednesday Evening Church at Meridian Baptist Church
DESCRIPTION:Mid-week services are starting at Meridian Baptist Church Meridian NY . Music\, Praise and the Word starting on December 3rd at 7pm
URL:https://www.marshillnetwork.org/events/wednesday-evening-church-at-meridian-baptist-church/2025-12-10/
LOCATION:Meridian Baptist Church\, NY-370\, Meridian\, NY\, 13113\, United States
ATTACH;FMTTYPE=image/png:https://www.marshillnetwork.org/wp-content/uploads/2025/11/evening-church-sign.png
END:VEVENT
BEGIN:VEVENT
DTSTART;TZID=America/New_York:20251203T190000
DTEND;TZID=America/New_York:20251203T200000
DTSTAMP:20260423T110420
CREATED:20251201T140658Z
LAST-MODIFIED:20251203T141839Z
UID:10001334-1764788400-1764792000@www.marshillnetwork.org
SUMMARY:Wednesday Evening Church at Meridian Baptist Church
DESCRIPTION:Mid-week services are starting at Meridian Baptist Church Meridian NY . Music\, Praise and the Word starting on December 3rd at 7pm
URL:https://www.marshillnetwork.org/events/wednesday-evening-church-at-meridian-baptist-church/2025-12-03/
LOCATION:Meridian Baptist Church\, NY-370\, Meridian\, NY\, 13113\, United States
ATTACH;FMTTYPE=image/png:https://www.marshillnetwork.org/wp-content/uploads/2025/11/evening-church-sign.png
END:VEVENT
END:VCALENDAR