BEGIN:VCALENDAR
VERSION:2.0
PRODID:-//Mars Hill Network - ECPv6.15.20//NONSGML v1.0//EN
CALSCALE:GREGORIAN
METHOD:PUBLISH
X-ORIGINAL-URL:https://www.marshillnetwork.org
X-WR-CALDESC:Events for Mars Hill Network
REFRESH-INTERVAL;VALUE=DURATION:PT1H
X-Robots-Tag:noindex
X-PUBLISHED-TTL:PT1H
BEGIN:VTIMEZONE
TZID:America/New_York
BEGIN:DAYLIGHT
TZOFFSETFROM:-0500
TZOFFSETTO:-0400
TZNAME:EDT
DTSTART:20240310T070000
END:DAYLIGHT
BEGIN:STANDARD
TZOFFSETFROM:-0400
TZOFFSETTO:-0500
TZNAME:EST
DTSTART:20241103T060000
END:STANDARD
BEGIN:DAYLIGHT
TZOFFSETFROM:-0500
TZOFFSETTO:-0400
TZNAME:EDT
DTSTART:20250309T070000
END:DAYLIGHT
BEGIN:STANDARD
TZOFFSETFROM:-0400
TZOFFSETTO:-0500
TZNAME:EST
DTSTART:20251102T060000
END:STANDARD
BEGIN:DAYLIGHT
TZOFFSETFROM:-0500
TZOFFSETTO:-0400
TZNAME:EDT
DTSTART:20260308T070000
END:DAYLIGHT
BEGIN:STANDARD
TZOFFSETFROM:-0400
TZOFFSETTO:-0500
TZNAME:EST
DTSTART:20261101T060000
END:STANDARD
END:VTIMEZONE
BEGIN:VEVENT
DTSTART;TZID=America/New_York:20251128T180000
DTEND;TZID=America/New_York:20251128T200000
DTSTAMP:20260421T073639
CREATED:20250203T152733Z
LAST-MODIFIED:20250203T152733Z
UID:10000082-1764352800-1764360000@www.marshillnetwork.org
SUMMARY:Monthly Meeting of Tri-County Riders for Christ (Chapter 1261: CMA)
DESCRIPTION:Christian Motorcyclist Association Watertown Chapter is seeking new members. The CMA is a ministry to the motorcycling community. The chapter meets on the last Friday of each month 6:00 pm @ Jreck Sub Shop 2 S.Main Street Philadelphia\, NY. For further information contact Paul Watson (Chapter President) @ 315-408-1321
URL:https://www.marshillnetwork.org/events/monthly-meeting-of-tri-county-riders-for-christ-chapter-1261-cma/2025-11-28/
LOCATION:Jreck Subs\, 29 Market St\, Alexandria Bay\, NY\, 13607\, United States
ORGANIZER;CN="Christian Motorcyclists Association (CMA) Watertown":MAILTO:pewatson41@hotmail.com
END:VEVENT
BEGIN:VEVENT
DTSTART;TZID=America/New_York:20251031T180000
DTEND;TZID=America/New_York:20251031T200000
DTSTAMP:20260421T073639
CREATED:20250203T152733Z
LAST-MODIFIED:20250203T152733Z
UID:10000081-1761933600-1761940800@www.marshillnetwork.org
SUMMARY:Monthly Meeting of Tri-County Riders for Christ (Chapter 1261: CMA)
DESCRIPTION:Christian Motorcyclist Association Watertown Chapter is seeking new members. The CMA is a ministry to the motorcycling community. The chapter meets on the last Friday of each month 6:00 pm @ Jreck Sub Shop 2 S.Main Street Philadelphia\, NY. For further information contact Paul Watson (Chapter President) @ 315-408-1321
URL:https://www.marshillnetwork.org/events/monthly-meeting-of-tri-county-riders-for-christ-chapter-1261-cma/2025-10-31/
LOCATION:Jreck Subs\, 29 Market St\, Alexandria Bay\, NY\, 13607\, United States
ORGANIZER;CN="Christian Motorcyclists Association (CMA) Watertown":MAILTO:pewatson41@hotmail.com
END:VEVENT
BEGIN:VEVENT
DTSTART;TZID=America/New_York:20250926T180000
DTEND;TZID=America/New_York:20250926T200000
DTSTAMP:20260421T073639
CREATED:20250203T152733Z
LAST-MODIFIED:20250203T152733Z
UID:10000080-1758909600-1758916800@www.marshillnetwork.org
SUMMARY:Monthly Meeting of Tri-County Riders for Christ (Chapter 1261: CMA)
DESCRIPTION:Christian Motorcyclist Association Watertown Chapter is seeking new members. The CMA is a ministry to the motorcycling community. The chapter meets on the last Friday of each month 6:00 pm @ Jreck Sub Shop 2 S.Main Street Philadelphia\, NY. For further information contact Paul Watson (Chapter President) @ 315-408-1321
URL:https://www.marshillnetwork.org/events/monthly-meeting-of-tri-county-riders-for-christ-chapter-1261-cma/2025-09-26/
LOCATION:Jreck Subs\, 29 Market St\, Alexandria Bay\, NY\, 13607\, United States
ORGANIZER;CN="Christian Motorcyclists Association (CMA) Watertown":MAILTO:pewatson41@hotmail.com
END:VEVENT
BEGIN:VEVENT
DTSTART;TZID=America/New_York:20250829T180000
DTEND;TZID=America/New_York:20250829T200000
DTSTAMP:20260421T073639
CREATED:20250203T152733Z
LAST-MODIFIED:20250203T152733Z
UID:10000079-1756490400-1756497600@www.marshillnetwork.org
SUMMARY:Monthly Meeting of Tri-County Riders for Christ (Chapter 1261: CMA)
DESCRIPTION:Christian Motorcyclist Association Watertown Chapter is seeking new members. The CMA is a ministry to the motorcycling community. The chapter meets on the last Friday of each month 6:00 pm @ Jreck Sub Shop 2 S.Main Street Philadelphia\, NY. For further information contact Paul Watson (Chapter President) @ 315-408-1321
URL:https://www.marshillnetwork.org/events/monthly-meeting-of-tri-county-riders-for-christ-chapter-1261-cma/2025-08-29/
LOCATION:Jreck Subs\, 29 Market St\, Alexandria Bay\, NY\, 13607\, United States
ORGANIZER;CN="Christian Motorcyclists Association (CMA) Watertown":MAILTO:pewatson41@hotmail.com
END:VEVENT
BEGIN:VEVENT
DTSTART;TZID=America/New_York:20250725T180000
DTEND;TZID=America/New_York:20250725T200000
DTSTAMP:20260421T073639
CREATED:20250203T152733Z
LAST-MODIFIED:20250203T152733Z
UID:10000078-1753466400-1753473600@www.marshillnetwork.org
SUMMARY:Monthly Meeting of Tri-County Riders for Christ (Chapter 1261: CMA)
DESCRIPTION:Christian Motorcyclist Association Watertown Chapter is seeking new members. The CMA is a ministry to the motorcycling community. The chapter meets on the last Friday of each month 6:00 pm @ Jreck Sub Shop 2 S.Main Street Philadelphia\, NY. For further information contact Paul Watson (Chapter President) @ 315-408-1321
URL:https://www.marshillnetwork.org/events/monthly-meeting-of-tri-county-riders-for-christ-chapter-1261-cma/2025-07-25/
LOCATION:Jreck Subs\, 29 Market St\, Alexandria Bay\, NY\, 13607\, United States
ORGANIZER;CN="Christian Motorcyclists Association (CMA) Watertown":MAILTO:pewatson41@hotmail.com
END:VEVENT
BEGIN:VEVENT
DTSTART;TZID=America/New_York:20250627T180000
DTEND;TZID=America/New_York:20250627T200000
DTSTAMP:20260421T073639
CREATED:20250203T152733Z
LAST-MODIFIED:20250203T152733Z
UID:10000077-1751047200-1751054400@www.marshillnetwork.org
SUMMARY:Monthly Meeting of Tri-County Riders for Christ (Chapter 1261: CMA)
DESCRIPTION:Christian Motorcyclist Association Watertown Chapter is seeking new members. The CMA is a ministry to the motorcycling community. The chapter meets on the last Friday of each month 6:00 pm @ Jreck Sub Shop 2 S.Main Street Philadelphia\, NY. For further information contact Paul Watson (Chapter President) @ 315-408-1321
URL:https://www.marshillnetwork.org/events/monthly-meeting-of-tri-county-riders-for-christ-chapter-1261-cma/2025-06-27/
LOCATION:Jreck Subs\, 29 Market St\, Alexandria Bay\, NY\, 13607\, United States
ORGANIZER;CN="Christian Motorcyclists Association (CMA) Watertown":MAILTO:pewatson41@hotmail.com
END:VEVENT
BEGIN:VEVENT
DTSTART;TZID=America/New_York:20250530T180000
DTEND;TZID=America/New_York:20250530T200000
DTSTAMP:20260421T073639
CREATED:20250203T152733Z
LAST-MODIFIED:20250203T152733Z
UID:10000076-1748628000-1748635200@www.marshillnetwork.org
SUMMARY:Monthly Meeting of Tri-County Riders for Christ (Chapter 1261: CMA)
DESCRIPTION:Christian Motorcyclist Association Watertown Chapter is seeking new members. The CMA is a ministry to the motorcycling community. The chapter meets on the last Friday of each month 6:00 pm @ Jreck Sub Shop 2 S.Main Street Philadelphia\, NY. For further information contact Paul Watson (Chapter President) @ 315-408-1321
URL:https://www.marshillnetwork.org/events/monthly-meeting-of-tri-county-riders-for-christ-chapter-1261-cma/2025-05-30/
LOCATION:Jreck Subs\, 29 Market St\, Alexandria Bay\, NY\, 13607\, United States
ORGANIZER;CN="Christian Motorcyclists Association (CMA) Watertown":MAILTO:pewatson41@hotmail.com
END:VEVENT
BEGIN:VEVENT
DTSTART;TZID=America/New_York:20250425T180000
DTEND;TZID=America/New_York:20250425T200000
DTSTAMP:20260421T073639
CREATED:20250203T152733Z
LAST-MODIFIED:20250203T152733Z
UID:10000075-1745604000-1745611200@www.marshillnetwork.org
SUMMARY:Monthly Meeting of Tri-County Riders for Christ (Chapter 1261: CMA)
DESCRIPTION:Christian Motorcyclist Association Watertown Chapter is seeking new members. The CMA is a ministry to the motorcycling community. The chapter meets on the last Friday of each month 6:00 pm @ Jreck Sub Shop 2 S.Main Street Philadelphia\, NY. For further information contact Paul Watson (Chapter President) @ 315-408-1321
URL:https://www.marshillnetwork.org/events/monthly-meeting-of-tri-county-riders-for-christ-chapter-1261-cma/2025-04-25/
LOCATION:Jreck Subs\, 29 Market St\, Alexandria Bay\, NY\, 13607\, United States
ORGANIZER;CN="Christian Motorcyclists Association (CMA) Watertown":MAILTO:pewatson41@hotmail.com
END:VEVENT
BEGIN:VEVENT
DTSTART;TZID=America/New_York:20250328T180000
DTEND;TZID=America/New_York:20250328T200000
DTSTAMP:20260421T073639
CREATED:20250203T152733Z
LAST-MODIFIED:20250203T152733Z
UID:10000074-1743184800-1743192000@www.marshillnetwork.org
SUMMARY:Monthly Meeting of Tri-County Riders for Christ (Chapter 1261: CMA)
DESCRIPTION:Christian Motorcyclist Association Watertown Chapter is seeking new members. The CMA is a ministry to the motorcycling community. The chapter meets on the last Friday of each month 6:00 pm @ Jreck Sub Shop 2 S.Main Street Philadelphia\, NY. For further information contact Paul Watson (Chapter President) @ 315-408-1321
URL:https://www.marshillnetwork.org/events/monthly-meeting-of-tri-county-riders-for-christ-chapter-1261-cma/2025-03-28/
LOCATION:Jreck Subs\, 29 Market St\, Alexandria Bay\, NY\, 13607\, United States
ORGANIZER;CN="Christian Motorcyclists Association (CMA) Watertown":MAILTO:pewatson41@hotmail.com
END:VEVENT
BEGIN:VEVENT
DTSTART;TZID=America/New_York:20250228T180000
DTEND;TZID=America/New_York:20250228T200000
DTSTAMP:20260421T073639
CREATED:20250203T152733Z
LAST-MODIFIED:20250203T152733Z
UID:10000073-1740765600-1740772800@www.marshillnetwork.org
SUMMARY:Monthly Meeting of Tri-County Riders for Christ (Chapter 1261: CMA)
DESCRIPTION:Christian Motorcyclist Association Watertown Chapter is seeking new members. The CMA is a ministry to the motorcycling community. The chapter meets on the last Friday of each month 6:00 pm @ Jreck Sub Shop 2 S.Main Street Philadelphia\, NY. For further information contact Paul Watson (Chapter President) @ 315-408-1321
URL:https://www.marshillnetwork.org/events/monthly-meeting-of-tri-county-riders-for-christ-chapter-1261-cma/2025-02-28/
LOCATION:Jreck Subs\, 29 Market St\, Alexandria Bay\, NY\, 13607\, United States
ORGANIZER;CN="Christian Motorcyclists Association (CMA) Watertown":MAILTO:pewatson41@hotmail.com
END:VEVENT
END:VCALENDAR