BEGIN:VCALENDAR
VERSION:2.0
PRODID:-//Mars Hill Network - ECPv6.15.20//NONSGML v1.0//EN
CALSCALE:GREGORIAN
METHOD:PUBLISH
X-WR-CALNAME:Mars Hill Network
X-ORIGINAL-URL:https://www.marshillnetwork.org
X-WR-CALDESC:Events for Mars Hill Network
REFRESH-INTERVAL;VALUE=DURATION:PT1H
X-Robots-Tag:noindex
X-PUBLISHED-TTL:PT1H
BEGIN:VTIMEZONE
TZID:America/New_York
BEGIN:DAYLIGHT
TZOFFSETFROM:-0500
TZOFFSETTO:-0400
TZNAME:EDT
DTSTART:20240310T070000
END:DAYLIGHT
BEGIN:STANDARD
TZOFFSETFROM:-0400
TZOFFSETTO:-0500
TZNAME:EST
DTSTART:20241103T060000
END:STANDARD
BEGIN:DAYLIGHT
TZOFFSETFROM:-0500
TZOFFSETTO:-0400
TZNAME:EDT
DTSTART:20250309T070000
END:DAYLIGHT
BEGIN:STANDARD
TZOFFSETFROM:-0400
TZOFFSETTO:-0500
TZNAME:EST
DTSTART:20251102T060000
END:STANDARD
BEGIN:DAYLIGHT
TZOFFSETFROM:-0500
TZOFFSETTO:-0400
TZNAME:EDT
DTSTART:20260308T070000
END:DAYLIGHT
BEGIN:STANDARD
TZOFFSETFROM:-0400
TZOFFSETTO:-0500
TZNAME:EST
DTSTART:20261101T060000
END:STANDARD
END:VTIMEZONE
BEGIN:VEVENT
DTSTART;TZID=America/New_York:20251101T100000
DTEND;TZID=America/New_York:20251101T150000
DTSTAMP:20260419T163150
CREATED:20251020T160957Z
LAST-MODIFIED:20251020T160957Z
UID:10001201-1761991200-1762009200@www.marshillnetwork.org
SUMMARY:Holiday House!
DESCRIPTION:Holiday House is open to the public and admission is free. There will be vendors\, a silent auction\, food trucks\, bounce house\, Scholastic Book Fair\, Meet and Greet with Otto the Orange (from 12-1)\, pony rides and a mini petting zoo (from 1-2:30)\, and more!
URL:https://www.marshillnetwork.org/events/holiday-house/
LOCATION:Faith Heritage School Syracuse NY\, 3740 Midland Avenue\, Syracuse\, NY\, 13205\, United States
ATTACH;FMTTYPE=image/jpeg:https://www.marshillnetwork.org/wp-content/uploads/2025/10/HH-public-flyer-screenshot.jpg
END:VEVENT
END:VCALENDAR