BEGIN:VCALENDAR
VERSION:2.0
PRODID:-//Mars Hill Network - ECPv6.15.20//NONSGML v1.0//EN
CALSCALE:GREGORIAN
METHOD:PUBLISH
X-ORIGINAL-URL:https://www.marshillnetwork.org
X-WR-CALDESC:Events for Mars Hill Network
REFRESH-INTERVAL;VALUE=DURATION:PT1H
X-Robots-Tag:noindex
X-PUBLISHED-TTL:PT1H
BEGIN:VTIMEZONE
TZID:America/New_York
BEGIN:DAYLIGHT
TZOFFSETFROM:-0500
TZOFFSETTO:-0400
TZNAME:EDT
DTSTART:20250309T070000
END:DAYLIGHT
BEGIN:STANDARD
TZOFFSETFROM:-0400
TZOFFSETTO:-0500
TZNAME:EST
DTSTART:20251102T060000
END:STANDARD
BEGIN:DAYLIGHT
TZOFFSETFROM:-0500
TZOFFSETTO:-0400
TZNAME:EDT
DTSTART:20260308T070000
END:DAYLIGHT
BEGIN:STANDARD
TZOFFSETFROM:-0400
TZOFFSETTO:-0500
TZNAME:EST
DTSTART:20261101T060000
END:STANDARD
BEGIN:DAYLIGHT
TZOFFSETFROM:-0500
TZOFFSETTO:-0400
TZNAME:EDT
DTSTART:20270314T070000
END:DAYLIGHT
BEGIN:STANDARD
TZOFFSETFROM:-0400
TZOFFSETTO:-0500
TZNAME:EST
DTSTART:20271107T060000
END:STANDARD
END:VTIMEZONE
BEGIN:VEVENT
DTSTART;TZID=America/New_York:20260314T090000
DTEND;TZID=America/New_York:20260314T153000
DTSTAMP:20260426T001639
CREATED:20260128T134955Z
LAST-MODIFIED:20260206T142859Z
UID:10001692-1773478800-1773502200@www.marshillnetwork.org
SUMMARY:Perth Bible Church Women's Conference- "Serving In Every Season"
DESCRIPTION:World-class performer\, songwriter\, Sarah Scharbrough McLaughlin will be leading worship at this year’s annual Women’s Conference at Perth Bible Church. Her soulful\, eclectic sound combines a rich tapestry of influences\, including her classical and jazz training which sets her apart as a rare treasure. Speakers this year will be Alainey Banks from Sacandaga Bible Conference\, Gwen VanGorder from Perth Bible Church and Deanne Davoll from Ballenita\, Ecuador. \nThe conference runs from 9 a.m. to 3:30 p.m. on March 14 at the church\, located at 1863 County\nHighway 107 in Perth. Doors open at 8 a.m. \nThe theme for this year’s conference is “Serving in Every Season.”\nServing in Every Season is designed to equip and encourage women— young\, middle-aged\, or seasoned—to serve God faithfully\, no matter where life finds them. Whether you are navigating new beginnings\, carrying the weight of a busy middle season\, or walking with the wisdom of years\, God has a unique purpose for you right now. Together\, we’ll explore how to serve with joy\, strength\, and grace in every chapter of life. Come be refreshed\, connected\, and inspired as we discover how to honor God through every season He leads us through. \nRegistration for this year’s conference is exclusively online at\nperthbible.church/womensconference. Tickets are $75 each\, and registration closes at 11:59\np.m. March 9. Lunch is included in the ticket cost.\nPeople can register as a group\, but one person should be designated as a contact. Individual\nregistrations are also accepted. Pastor’s wives are invited to attend the conference for free.\nMore information can be found on the church website at perthbible.church/womensconference.\nIf there are any questions\, e-mail womensconference@perthbiblechurch.org.
URL:https://www.marshillnetwork.org/events/perth-bible-church-womens-conference-serving-in-every-season/
LOCATION:Perth Bible Church\, 1863 County Hwy 107\, Amsterdam\, NY\, 12010\, United States
CATEGORIES:Other
ATTACH;FMTTYPE=image/jpeg:https://www.marshillnetwork.org/wp-content/uploads/2026/01/Copy-of-Powerpoint-Slide.jpg
ORGANIZER;CN="Perth Bible Church":MAILTO:office@perthbiblechurch.org
END:VEVENT
END:VCALENDAR