BEGIN:VCALENDAR
VERSION:2.0
PRODID:-//Mars Hill Network - ECPv6.15.20//NONSGML v1.0//EN
CALSCALE:GREGORIAN
METHOD:PUBLISH
X-WR-CALNAME:Mars Hill Network
X-ORIGINAL-URL:https://www.marshillnetwork.org
X-WR-CALDESC:Events for Mars Hill Network
REFRESH-INTERVAL;VALUE=DURATION:PT1H
X-Robots-Tag:noindex
X-PUBLISHED-TTL:PT1H
BEGIN:VTIMEZONE
TZID:America/New_York
BEGIN:DAYLIGHT
TZOFFSETFROM:-0500
TZOFFSETTO:-0400
TZNAME:EDT
DTSTART:20240310T070000
END:DAYLIGHT
BEGIN:STANDARD
TZOFFSETFROM:-0400
TZOFFSETTO:-0500
TZNAME:EST
DTSTART:20241103T060000
END:STANDARD
BEGIN:DAYLIGHT
TZOFFSETFROM:-0500
TZOFFSETTO:-0400
TZNAME:EDT
DTSTART:20250309T070000
END:DAYLIGHT
BEGIN:STANDARD
TZOFFSETFROM:-0400
TZOFFSETTO:-0500
TZNAME:EST
DTSTART:20251102T060000
END:STANDARD
BEGIN:DAYLIGHT
TZOFFSETFROM:-0500
TZOFFSETTO:-0400
TZNAME:EDT
DTSTART:20260308T070000
END:DAYLIGHT
BEGIN:STANDARD
TZOFFSETFROM:-0400
TZOFFSETTO:-0500
TZNAME:EST
DTSTART:20261101T060000
END:STANDARD
BEGIN:DAYLIGHT
TZOFFSETFROM:-0500
TZOFFSETTO:-0400
TZNAME:EDT
DTSTART:20270314T070000
END:DAYLIGHT
BEGIN:STANDARD
TZOFFSETFROM:-0400
TZOFFSETTO:-0500
TZNAME:EST
DTSTART:20271107T060000
END:STANDARD
END:VTIMEZONE
BEGIN:VEVENT
DTSTART;TZID=America/New_York:20260305T163000
DTEND;TZID=America/New_York:20260305T180000
DTSTAMP:20260423T072907
CREATED:20260226T182727Z
LAST-MODIFIED:20260226T182727Z
UID:10001715-1772728200-1772733600@www.marshillnetwork.org
SUMMARY:Palermo Church Chicken & Biscuit Dinner
DESCRIPTION:Chicken & Biscuit Dinner Dinners Return for the Spring \nThe Palermo Church will be hosting its first famous Chicken & Biscuit Dinner of the spring on Thursday\, March 5\, 2026\, beginning at 4:30 pm until sold out. \nPlease Note: Due to the lack of parking\, this dinner will be encouraged to be served by Drive Thru and Take-Out service. The Drive Thru will be served from the upper church parking lot. We ask that cars be lined up on the church side of the road entering the parking lot from the north. If you are coming from the south. please proceed to the Palermo Town Hall parking lot to loop around to be on the right side of the road. Take outs can be picked up in the lower level by coming in to the take out door but the parking is very limited. \nFor one low price\, dinner will include generous portions of chicken and gravy\, two jumbo biscuits\, mashed potatoes\, a vegetable\, coleslaw and dessert. \nAdult dinners are $11.00\, children age 6 through 12 are $7.00\, and children age 5 and under are free. Please follow the parking attendant and stay in your vehicle and the dinners will be delivered to you. \nOther Spring dinners will be April 9th (please note it is one week later due to Holy Week) \, May 7th and June 4th. \nThe church is located at 11 County Route 35\, just off of State Route 3 in Palermo\, just north of Palermo Center and is wheelchair assessable on the lower level.
URL:https://www.marshillnetwork.org/events/palermo-church-chicken-biscuit-dinner-3/
LOCATION:Palermo Church\, 11 County Route 35\, Fulton\, NY\, 13069\, United States
ORGANIZER;CN="Palermo Community Church":MAILTO:PalermoCommunityChurch@gmail.com
END:VEVENT
BEGIN:VEVENT
DTSTART;TZID=America/New_York:20251207T103000
DTEND;TZID=America/New_York:20251207T170000
DTSTAMP:20260423T072907
CREATED:20251126T144123Z
LAST-MODIFIED:20251126T144123Z
UID:10001332-1765103400-1765126800@www.marshillnetwork.org
SUMMARY:Palermo Church 12th Annual Christmas in Palermo
DESCRIPTION:The Palermo Church will host its 12th annual “CHRISTMAS IN PALERMO” on December 7\, 2025. Activities will take place all day and will begin with a Christmas pageant during our Worship service from 10:30 to 11:30 a.m. in the sanctuary. Everyone is invited to join us. The church is located at 11 Co. Rt. 35\, Fulton\, NY.\nThe festivities start after the Worship service. Upstairs in the Loomis Room you will find Crafters and Venders with all kinds of Christmas gift ideas from 11:30 to 5 p.m. The Cookie and Candy Shoppe\, complete with cotton candy\, you won’t want to miss. We’ll have boxes of homemade cookies to sell. The Basket Drawing of 30 or more beautiful baskets will be displayed upstairs\, Santa and Mrs. Claus will arrive around 3 p.m. by firetruck and visit with children in the fireplace room.\nThe Bubble Man will be with us in the Sanctuary (upstairs) from approximately 2:00 to 3:00 p.m.\nDownstairs make sure the kids visit the Kid’s Christmas Shoppe where they can Christmas Shop for 25 cents and wrap their gift too. Look for the Make-It-Take-It Craft section from 1:00 – 2:00pm\, Reindeer games\, will be held outdoors and Face Painting in the back of the dining room. At 12:00 to 1:30 p.m. lunch will be available in the kitchen area. Pizza\, hamburgers\, hot dogs\, chips\, nachos and cheese sauce\, and drinks will be available.\nScouting Troops Trail Life and American Heritage Girls will serve hot chocolate and s’mores.\nDownstairs at the kitchen window at 4:00 p.m. there will be free soup\, chili\, salad and bread. Anyone who wants to compete in the “Chili Cook Off” may register by contacting the church office at 315-598-4888. Prizes for first\, second and third place winners will be given.\nOur 2nd Chance Shoppe will be open all day. Its normal hours are every Saturday from 10 to 2 p.m. There are lots of winter clothing\, coats\, sweaters\, toys etc. at very\, very reasonable prices.\nWe look forward to seeing you once again and celebrate the Christmas season together. Questions call Ginny Chawgo at 315-591-4468.
URL:https://www.marshillnetwork.org/events/palermo-church-12th-annual-christmas-in-palermo/
ORGANIZER;CN="Palermo Community Church":MAILTO:PalermoCommunityChurch@gmail.com
END:VEVENT
END:VCALENDAR