BEGIN:VCALENDAR
VERSION:2.0
PRODID:-//Mars Hill Network - ECPv6.15.20//NONSGML v1.0//EN
CALSCALE:GREGORIAN
METHOD:PUBLISH
X-ORIGINAL-URL:https://www.marshillnetwork.org
X-WR-CALDESC:Events for Mars Hill Network
REFRESH-INTERVAL;VALUE=DURATION:PT1H
X-Robots-Tag:noindex
X-PUBLISHED-TTL:PT1H
BEGIN:VTIMEZONE
TZID:America/New_York
BEGIN:DAYLIGHT
TZOFFSETFROM:-0500
TZOFFSETTO:-0400
TZNAME:EDT
DTSTART:20240310T070000
END:DAYLIGHT
BEGIN:STANDARD
TZOFFSETFROM:-0400
TZOFFSETTO:-0500
TZNAME:EST
DTSTART:20241103T060000
END:STANDARD
BEGIN:DAYLIGHT
TZOFFSETFROM:-0500
TZOFFSETTO:-0400
TZNAME:EDT
DTSTART:20250309T070000
END:DAYLIGHT
BEGIN:STANDARD
TZOFFSETFROM:-0400
TZOFFSETTO:-0500
TZNAME:EST
DTSTART:20251102T060000
END:STANDARD
BEGIN:DAYLIGHT
TZOFFSETFROM:-0500
TZOFFSETTO:-0400
TZNAME:EDT
DTSTART:20260308T070000
END:DAYLIGHT
BEGIN:STANDARD
TZOFFSETFROM:-0400
TZOFFSETTO:-0500
TZNAME:EST
DTSTART:20261101T060000
END:STANDARD
END:VTIMEZONE
BEGIN:VEVENT
DTSTART;TZID=America/New_York:20251220T100000
DTEND;TZID=America/New_York:20251220T140000
DTSTAMP:20260423T021313
CREATED:20251126T143839Z
LAST-MODIFIED:20251126T143839Z
UID:10001328-1766224800-1766239200@www.marshillnetwork.org
SUMMARY:Annual Cookie Walk
DESCRIPTION:Join us for the First United Church of East Syracuse\nAnnual Cookie Walk\nSaturday\, December 20\, 2025\, from 10 AM – 2 PM\nLet us do your holiday baking for you… Choose from a variety of your favorite homemade cookies\n& treats for your holiday enjoyment & entertaining! $8.00 / lb. \nFirst United Church of East Syracuse\n823 Franklin Park Drive\nEast Syracuse\, NY 13057 (315) 463-6833 https://www.unitedchurchesyr.org/ \nAll proceeds to benefit the First United Church of East Syracuse. \nContact Info:\nGladys Greabell gladysgreabell@gmail.com\n315-656-8525
URL:https://www.marshillnetwork.org/events/annual-cookie-walk/
LOCATION:First United Church of East Syracuse\, 823 Franklin Park Dr\, East Syracuse\, NY\, 13057\, United States
CATEGORIES:Christmas Season
ATTACH;FMTTYPE=image/jpeg:https://www.marshillnetwork.org/wp-content/uploads/2025/11/2025-Cookie-Walk-Cropped-scaled.jpeg
ORGANIZER;CN="first united church of east yracuse":MAILTO:gladysgreabell@gmail.com
END:VEVENT
END:VCALENDAR