BEGIN:VCALENDAR
VERSION:2.0
PRODID:-//Mars Hill Network - ECPv6.15.20//NONSGML v1.0//EN
CALSCALE:GREGORIAN
METHOD:PUBLISH
X-WR-CALNAME:Mars Hill Network
X-ORIGINAL-URL:https://www.marshillnetwork.org
X-WR-CALDESC:Events for Mars Hill Network
REFRESH-INTERVAL;VALUE=DURATION:PT1H
X-Robots-Tag:noindex
X-PUBLISHED-TTL:PT1H
BEGIN:VTIMEZONE
TZID:America/New_York
BEGIN:DAYLIGHT
TZOFFSETFROM:-0500
TZOFFSETTO:-0400
TZNAME:EDT
DTSTART:20240310T070000
END:DAYLIGHT
BEGIN:STANDARD
TZOFFSETFROM:-0400
TZOFFSETTO:-0500
TZNAME:EST
DTSTART:20241103T060000
END:STANDARD
BEGIN:DAYLIGHT
TZOFFSETFROM:-0500
TZOFFSETTO:-0400
TZNAME:EDT
DTSTART:20250309T070000
END:DAYLIGHT
BEGIN:STANDARD
TZOFFSETFROM:-0400
TZOFFSETTO:-0500
TZNAME:EST
DTSTART:20251102T060000
END:STANDARD
BEGIN:DAYLIGHT
TZOFFSETFROM:-0500
TZOFFSETTO:-0400
TZNAME:EDT
DTSTART:20260308T070000
END:DAYLIGHT
BEGIN:STANDARD
TZOFFSETFROM:-0400
TZOFFSETTO:-0500
TZNAME:EST
DTSTART:20261101T060000
END:STANDARD
END:VTIMEZONE
BEGIN:VEVENT
DTSTART;TZID=America/New_York:20251213T180000
DTEND;TZID=America/New_York:20251213T200000
DTSTAMP:20260422T231811
CREATED:20251126T144031Z
LAST-MODIFIED:20251126T144031Z
UID:10001329-1765648800-1765656000@www.marshillnetwork.org
SUMMARY:Light in the Darkness — A Night of Story and Song
DESCRIPTION:Join us for Light in the Darkness\, a powerful Christmas production filled with moving music\, dramatic storytelling\, and heartfelt moments your whole family will enjoy. This year’s program shines a beautiful light on the hope and love of God in every season — even in our darkest moments. \nThis free event features inspiring music\, provoking narration\, and a message that points hearts toward Christ during the Christmas season. Bring your family\, invite a friend\, and make it part of your Christmas tradition. \nCost: Free admission — tickets are free but are needed for seating capacity. \nMore Info / Tickets:\nwww.livingword.live/christmas2025 \nOrganization: Living Word Church\nPhone: 315-437-6774\nWebsite: www.livingword.live
URL:https://www.marshillnetwork.org/events/light-in-the-darkness-a-night-of-story-and-song/2025-12-13/
LOCATION:Living Word Church\, 6099 Court St Rd\, Syracuse\, NY\, 13206\, United States
CATEGORIES:Christmas Season
ATTACH;FMTTYPE=image/png:https://www.marshillnetwork.org/wp-content/uploads/2025/11/Christmas-side-1-5.25x3.25-1.png
ORGANIZER;CN="Living Word Church":MAILTO:lwcommsdir@livingword.live
GEO:43.0858395;-76.0977448
X-APPLE-STRUCTURED-LOCATION;VALUE=URI;X-ADDRESS=Living Word Church 6099 Court St Rd Syracuse NY 13206 United States;X-APPLE-RADIUS=500;X-TITLE=6099 Court St Rd:geo:-76.0977448,43.0858395
END:VEVENT
BEGIN:VEVENT
DTSTART;TZID=America/New_York:20251220T180000
DTEND;TZID=America/New_York:20251220T200000
DTSTAMP:20260422T231811
CREATED:20251126T144031Z
LAST-MODIFIED:20251126T144031Z
UID:10001330-1766253600-1766260800@www.marshillnetwork.org
SUMMARY:Light in the Darkness — A Night of Story and Song
DESCRIPTION:Join us for Light in the Darkness\, a powerful Christmas production filled with moving music\, dramatic storytelling\, and heartfelt moments your whole family will enjoy. This year’s program shines a beautiful light on the hope and love of God in every season — even in our darkest moments. \nThis free event features inspiring music\, provoking narration\, and a message that points hearts toward Christ during the Christmas season. Bring your family\, invite a friend\, and make it part of your Christmas tradition. \nCost: Free admission — tickets are free but are needed for seating capacity. \nMore Info / Tickets:\nwww.livingword.live/christmas2025 \nOrganization: Living Word Church\nPhone: 315-437-6774\nWebsite: www.livingword.live
URL:https://www.marshillnetwork.org/events/light-in-the-darkness-a-night-of-story-and-song/2025-12-20/
LOCATION:Living Word Church\, 6099 Court St Rd\, Syracuse\, NY\, 13206\, United States
CATEGORIES:Christmas Season
ATTACH;FMTTYPE=image/png:https://www.marshillnetwork.org/wp-content/uploads/2025/11/Christmas-side-1-5.25x3.25-1.png
ORGANIZER;CN="Living Word Church":MAILTO:lwcommsdir@livingword.live
GEO:43.0858395;-76.0977448
X-APPLE-STRUCTURED-LOCATION;VALUE=URI;X-ADDRESS=Living Word Church 6099 Court St Rd Syracuse NY 13206 United States;X-APPLE-RADIUS=500;X-TITLE=6099 Court St Rd:geo:-76.0977448,43.0858395
END:VEVENT
BEGIN:VEVENT
DTSTART;TZID=America/New_York:20251221T140000
DTEND;TZID=America/New_York:20251221T160000
DTSTAMP:20260422T231811
CREATED:20251208T140918Z
LAST-MODIFIED:20251208T144748Z
UID:10001652-1766325600-1766332800@www.marshillnetwork.org
SUMMARY:"A Holiday Celebration with Tim Schramm & Friends
DESCRIPTION:The Rochester Theater Organ Society proudly presents “A Holiday Celebration!” on Sunday\, December 21st at 2:00 PM at the West Herr Auditorium Theatre. Tim Schramm and friends will spread a variety of cheer in a celebration of the holidays. There will be music and songs featuring local artists accompanied by the Mighty Wurlitzer theatre organ! \nAdmission for NON-members is $15 per person. Children 12 and under with an adult\, and students with school ID are always FREE. The Box Office opens at 1:00 PM and the doors open at 1:15 PM. Seating is General Admission\, not reserved. There are no advance ticket sales. \nThe RTOS annual membership fee of only $75 includes FREE admission for you and a guest to eight concerts each year. Visit the RTOS website rtosonline.org or stop by the Membership Table in the lobby for more information including special rates for out-of-town members.
URL:https://www.marshillnetwork.org/events/a-holiday-celebration-with-tim-schramm-friends/
LOCATION:West Herr Auditorium Theatre\, 885 E. Main St.\, Rochester\, NY\, 14605\, United States
CATEGORIES:Christmas Season
ATTACH;FMTTYPE=image/jpeg:https://www.marshillnetwork.org/wp-content/uploads/2025/12/RTOS_Organ_Image.jpg
ORGANIZER;CN="Rochester Theater Organ Society":MAILTO:publicity@rtosonline.org
GEO:43.1607408;-77.5886594
X-APPLE-STRUCTURED-LOCATION;VALUE=URI;X-ADDRESS=West Herr Auditorium Theatre 885 E. Main St. Rochester NY 14605 United States;X-APPLE-RADIUS=500;X-TITLE=885 E. Main St.:geo:-77.5886594,43.1607408
END:VEVENT
END:VCALENDAR