BEGIN:VCALENDAR
VERSION:2.0
PRODID:-//Mars Hill Network - ECPv6.15.20//NONSGML v1.0//EN
CALSCALE:GREGORIAN
METHOD:PUBLISH
X-WR-CALNAME:Mars Hill Network
X-ORIGINAL-URL:https://www.marshillnetwork.org
X-WR-CALDESC:Events for Mars Hill Network
REFRESH-INTERVAL;VALUE=DURATION:PT1H
X-Robots-Tag:noindex
X-PUBLISHED-TTL:PT1H
BEGIN:VTIMEZONE
TZID:America/New_York
BEGIN:DAYLIGHT
TZOFFSETFROM:-0500
TZOFFSETTO:-0400
TZNAME:EDT
DTSTART:20250309T070000
END:DAYLIGHT
BEGIN:STANDARD
TZOFFSETFROM:-0400
TZOFFSETTO:-0500
TZNAME:EST
DTSTART:20251102T060000
END:STANDARD
BEGIN:DAYLIGHT
TZOFFSETFROM:-0500
TZOFFSETTO:-0400
TZNAME:EDT
DTSTART:20260308T070000
END:DAYLIGHT
BEGIN:STANDARD
TZOFFSETFROM:-0400
TZOFFSETTO:-0500
TZNAME:EST
DTSTART:20261101T060000
END:STANDARD
BEGIN:DAYLIGHT
TZOFFSETFROM:-0500
TZOFFSETTO:-0400
TZNAME:EDT
DTSTART:20270314T070000
END:DAYLIGHT
BEGIN:STANDARD
TZOFFSETFROM:-0400
TZOFFSETTO:-0500
TZNAME:EST
DTSTART:20271107T060000
END:STANDARD
END:VTIMEZONE
BEGIN:VEVENT
DTSTART;TZID=America/New_York:20260708T190000
DTEND;TZID=America/New_York:20260708T200000
DTSTAMP:20260423T114415
CREATED:20251201T140658Z
LAST-MODIFIED:20251203T141839Z
UID:10001365-1783537200-1783540800@www.marshillnetwork.org
SUMMARY:Wednesday Evening Church at Meridian Baptist Church
DESCRIPTION:Mid-week services are starting at Meridian Baptist Church Meridian NY . Music\, Praise and the Word starting on December 3rd at 7pm
URL:https://www.marshillnetwork.org/events/wednesday-evening-church-at-meridian-baptist-church/2026-07-08/
LOCATION:Meridian Baptist Church\, NY-370\, Meridian\, NY\, 13113\, United States
ATTACH;FMTTYPE=image/png:https://www.marshillnetwork.org/wp-content/uploads/2025/11/evening-church-sign.png
END:VEVENT
BEGIN:VEVENT
DTSTART;TZID=America/New_York:20260706T100000
DTEND;TZID=America/New_York:20260709T100000
DTSTAMP:20260423T114415
CREATED:20260223T142201Z
LAST-MODIFIED:20260223T142201Z
UID:10001711-1783332000-1783591200@www.marshillnetwork.org
SUMMARY:REVIVE Summer Camp -LeTourneau
DESCRIPTION:LeTourneau Christian Center’s REVIVE Summer Camp (July 6 – July 9): Youth ages 13–18\, join us for a week of adventure\, faith\, and fun! Enjoy boating\, tubing\, kayaking\, paddleboarding\, paintball\, 9 Square in the Air\, worship\, bonfires\, and unforgettable memories with friends. Campers will grow in faith\, build lasting friendships\, and discover how God shares His joy with us through the glorious Gospel.
URL:https://www.marshillnetwork.org/events/revive-summer-camp-letourneau/
LOCATION:LeTourneau Christian Center
ATTACH;FMTTYPE=image/png:https://www.marshillnetwork.org/wp-content/uploads/2026/02/Instagram-REVIVE-Summer-Camp.png
END:VEVENT
BEGIN:VEVENT
DTSTART;TZID=America/New_York:20260704T100000
DTEND;TZID=America/New_York:20260704T140000
DTSTAMP:20260423T114415
CREATED:20250929T130227Z
LAST-MODIFIED:20250929T130227Z
UID:10000849-1783159200-1783173600@www.marshillnetwork.org
SUMMARY:2nd Chance Shop
DESCRIPTION:Palermo Community Church has the 2nd Chance Shoppe open every Saturday from 10am-2pm. Clothing in every size as well as household items and craft supplies. For further information call 315-591-4468.
URL:https://www.marshillnetwork.org/events/2nd-chance-shop/2026-07-04/
LOCATION:Palermo Community Church\, 11 County Route 35\, Fulton\, NY\, 13069\, United States
ORGANIZER;CN="Palermo Community Church":MAILTO:PalermoCommunityChurch@gmail.com
END:VEVENT
BEGIN:VEVENT
DTSTART;TZID=America/New_York:20260701T190000
DTEND;TZID=America/New_York:20260701T200000
DTSTAMP:20260423T114415
CREATED:20251201T140658Z
LAST-MODIFIED:20251203T141839Z
UID:10001364-1782932400-1782936000@www.marshillnetwork.org
SUMMARY:Wednesday Evening Church at Meridian Baptist Church
DESCRIPTION:Mid-week services are starting at Meridian Baptist Church Meridian NY . Music\, Praise and the Word starting on December 3rd at 7pm
URL:https://www.marshillnetwork.org/events/wednesday-evening-church-at-meridian-baptist-church/2026-07-01/
LOCATION:Meridian Baptist Church\, NY-370\, Meridian\, NY\, 13113\, United States
ATTACH;FMTTYPE=image/png:https://www.marshillnetwork.org/wp-content/uploads/2025/11/evening-church-sign.png
END:VEVENT
BEGIN:VEVENT
DTSTART;TZID=America/New_York:20260629T080000
DTEND;TZID=America/New_York:20260821T170000
DTSTAMP:20260423T114415
CREATED:20260225T134912Z
LAST-MODIFIED:20260225T134912Z
UID:10001713-1782720000-1787331600@www.marshillnetwork.org
SUMMARY:LeTourneau Summer Camp
DESCRIPTION:We have eight weeks of Summer Camp for ages 5-13. Our camps are day camps from 9 am-4 pm. We do have a few overnight camps. \nJune 29 – July 3\nSports Camp\nTreasure Island Camp \nJuly 6 – July 10\nArts and Crafts Camp\nWave Riders (Age 9-13)\nPuddle Jumpers (Age 5-8)\nREVIVE Youth Camp (overnight camp age 13-18) \nJuly 13 – July 17\nDance Camp\nLEGO Camp\nPickleball/Basketball Camp (Age 9-13) \nJuly 20 – July 24\nKingdom Conquest Camp (day camp for ages 5-13 and an overnight option for ages 9-13) \nJuly 27 – July 31\nKnights and Riders Camp \nAugust 3 – August 7\nWacky Water Camp (day camp age 5-13 with an extended camp option (til 8 pm) for ages 7-9) \nAugust 10- August 14\nDragon Quest Camp\nTop Chef Camp
URL:https://www.marshillnetwork.org/events/letourneau-summer-camp/
LOCATION:LeTourneau Christian Center
ATTACH;FMTTYPE=image/png:https://www.marshillnetwork.org/wp-content/uploads/2026/02/Title-Page.png
END:VEVENT
BEGIN:VEVENT
DTSTART;TZID=America/New_York:20260627T100000
DTEND;TZID=America/New_York:20260627T140000
DTSTAMP:20260423T114415
CREATED:20250929T130227Z
LAST-MODIFIED:20250929T130227Z
UID:10000848-1782554400-1782568800@www.marshillnetwork.org
SUMMARY:2nd Chance Shop
DESCRIPTION:Palermo Community Church has the 2nd Chance Shoppe open every Saturday from 10am-2pm. Clothing in every size as well as household items and craft supplies. For further information call 315-591-4468.
URL:https://www.marshillnetwork.org/events/2nd-chance-shop/2026-06-27/
LOCATION:Palermo Community Church\, 11 County Route 35\, Fulton\, NY\, 13069\, United States
ORGANIZER;CN="Palermo Community Church":MAILTO:PalermoCommunityChurch@gmail.com
END:VEVENT
BEGIN:VEVENT
DTSTART;TZID=America/New_York:20260624T190000
DTEND;TZID=America/New_York:20260624T200000
DTSTAMP:20260423T114415
CREATED:20251201T140658Z
LAST-MODIFIED:20251203T141839Z
UID:10001363-1782327600-1782331200@www.marshillnetwork.org
SUMMARY:Wednesday Evening Church at Meridian Baptist Church
DESCRIPTION:Mid-week services are starting at Meridian Baptist Church Meridian NY . Music\, Praise and the Word starting on December 3rd at 7pm
URL:https://www.marshillnetwork.org/events/wednesday-evening-church-at-meridian-baptist-church/2026-06-24/
LOCATION:Meridian Baptist Church\, NY-370\, Meridian\, NY\, 13113\, United States
ATTACH;FMTTYPE=image/png:https://www.marshillnetwork.org/wp-content/uploads/2025/11/evening-church-sign.png
END:VEVENT
BEGIN:VEVENT
DTSTART;TZID=America/New_York:20260620T100000
DTEND;TZID=America/New_York:20260620T140000
DTSTAMP:20260423T114415
CREATED:20250929T130227Z
LAST-MODIFIED:20250929T130227Z
UID:10000847-1781949600-1781964000@www.marshillnetwork.org
SUMMARY:2nd Chance Shop
DESCRIPTION:Palermo Community Church has the 2nd Chance Shoppe open every Saturday from 10am-2pm. Clothing in every size as well as household items and craft supplies. For further information call 315-591-4468.
URL:https://www.marshillnetwork.org/events/2nd-chance-shop/2026-06-20/
LOCATION:Palermo Community Church\, 11 County Route 35\, Fulton\, NY\, 13069\, United States
ORGANIZER;CN="Palermo Community Church":MAILTO:PalermoCommunityChurch@gmail.com
END:VEVENT
BEGIN:VEVENT
DTSTART;TZID=America/New_York:20260617T190000
DTEND;TZID=America/New_York:20260617T200000
DTSTAMP:20260423T114415
CREATED:20251201T140658Z
LAST-MODIFIED:20251203T141839Z
UID:10001362-1781722800-1781726400@www.marshillnetwork.org
SUMMARY:Wednesday Evening Church at Meridian Baptist Church
DESCRIPTION:Mid-week services are starting at Meridian Baptist Church Meridian NY . Music\, Praise and the Word starting on December 3rd at 7pm
URL:https://www.marshillnetwork.org/events/wednesday-evening-church-at-meridian-baptist-church/2026-06-17/
LOCATION:Meridian Baptist Church\, NY-370\, Meridian\, NY\, 13113\, United States
ATTACH;FMTTYPE=image/png:https://www.marshillnetwork.org/wp-content/uploads/2025/11/evening-church-sign.png
END:VEVENT
BEGIN:VEVENT
DTSTART;TZID=America/New_York:20260613T100000
DTEND;TZID=America/New_York:20260613T140000
DTSTAMP:20260423T114415
CREATED:20250929T130227Z
LAST-MODIFIED:20250929T130227Z
UID:10000846-1781344800-1781359200@www.marshillnetwork.org
SUMMARY:2nd Chance Shop
DESCRIPTION:Palermo Community Church has the 2nd Chance Shoppe open every Saturday from 10am-2pm. Clothing in every size as well as household items and craft supplies. For further information call 315-591-4468.
URL:https://www.marshillnetwork.org/events/2nd-chance-shop/2026-06-13/
LOCATION:Palermo Community Church\, 11 County Route 35\, Fulton\, NY\, 13069\, United States
ORGANIZER;CN="Palermo Community Church":MAILTO:PalermoCommunityChurch@gmail.com
END:VEVENT
BEGIN:VEVENT
DTSTART;TZID=America/New_York:20260610T190000
DTEND;TZID=America/New_York:20260610T200000
DTSTAMP:20260423T114415
CREATED:20251201T140658Z
LAST-MODIFIED:20251203T141839Z
UID:10001361-1781118000-1781121600@www.marshillnetwork.org
SUMMARY:Wednesday Evening Church at Meridian Baptist Church
DESCRIPTION:Mid-week services are starting at Meridian Baptist Church Meridian NY . Music\, Praise and the Word starting on December 3rd at 7pm
URL:https://www.marshillnetwork.org/events/wednesday-evening-church-at-meridian-baptist-church/2026-06-10/
LOCATION:Meridian Baptist Church\, NY-370\, Meridian\, NY\, 13113\, United States
ATTACH;FMTTYPE=image/png:https://www.marshillnetwork.org/wp-content/uploads/2025/11/evening-church-sign.png
END:VEVENT
BEGIN:VEVENT
DTSTART;TZID=America/New_York:20260606T100000
DTEND;TZID=America/New_York:20260606T140000
DTSTAMP:20260423T114415
CREATED:20250929T130227Z
LAST-MODIFIED:20250929T130227Z
UID:10000845-1780740000-1780754400@www.marshillnetwork.org
SUMMARY:2nd Chance Shop
DESCRIPTION:Palermo Community Church has the 2nd Chance Shoppe open every Saturday from 10am-2pm. Clothing in every size as well as household items and craft supplies. For further information call 315-591-4468.
URL:https://www.marshillnetwork.org/events/2nd-chance-shop/2026-06-06/
LOCATION:Palermo Community Church\, 11 County Route 35\, Fulton\, NY\, 13069\, United States
ORGANIZER;CN="Palermo Community Church":MAILTO:PalermoCommunityChurch@gmail.com
END:VEVENT
BEGIN:VEVENT
DTSTART;TZID=America/New_York:20260603T190000
DTEND;TZID=America/New_York:20260603T200000
DTSTAMP:20260423T114415
CREATED:20251201T140658Z
LAST-MODIFIED:20251203T141839Z
UID:10001360-1780513200-1780516800@www.marshillnetwork.org
SUMMARY:Wednesday Evening Church at Meridian Baptist Church
DESCRIPTION:Mid-week services are starting at Meridian Baptist Church Meridian NY . Music\, Praise and the Word starting on December 3rd at 7pm
URL:https://www.marshillnetwork.org/events/wednesday-evening-church-at-meridian-baptist-church/2026-06-03/
LOCATION:Meridian Baptist Church\, NY-370\, Meridian\, NY\, 13113\, United States
ATTACH;FMTTYPE=image/png:https://www.marshillnetwork.org/wp-content/uploads/2025/11/evening-church-sign.png
END:VEVENT
BEGIN:VEVENT
DTSTART;TZID=America/New_York:20260530T100000
DTEND;TZID=America/New_York:20260530T140000
DTSTAMP:20260423T114415
CREATED:20250929T130227Z
LAST-MODIFIED:20250929T130227Z
UID:10000844-1780135200-1780149600@www.marshillnetwork.org
SUMMARY:2nd Chance Shop
DESCRIPTION:Palermo Community Church has the 2nd Chance Shoppe open every Saturday from 10am-2pm. Clothing in every size as well as household items and craft supplies. For further information call 315-591-4468.
URL:https://www.marshillnetwork.org/events/2nd-chance-shop/2026-05-30/
LOCATION:Palermo Community Church\, 11 County Route 35\, Fulton\, NY\, 13069\, United States
ORGANIZER;CN="Palermo Community Church":MAILTO:PalermoCommunityChurch@gmail.com
END:VEVENT
BEGIN:VEVENT
DTSTART;TZID=America/New_York:20260527T190000
DTEND;TZID=America/New_York:20260527T200000
DTSTAMP:20260423T114415
CREATED:20251201T140658Z
LAST-MODIFIED:20251203T141839Z
UID:10001359-1779908400-1779912000@www.marshillnetwork.org
SUMMARY:Wednesday Evening Church at Meridian Baptist Church
DESCRIPTION:Mid-week services are starting at Meridian Baptist Church Meridian NY . Music\, Praise and the Word starting on December 3rd at 7pm
URL:https://www.marshillnetwork.org/events/wednesday-evening-church-at-meridian-baptist-church/2026-05-27/
LOCATION:Meridian Baptist Church\, NY-370\, Meridian\, NY\, 13113\, United States
ATTACH;FMTTYPE=image/png:https://www.marshillnetwork.org/wp-content/uploads/2025/11/evening-church-sign.png
END:VEVENT
BEGIN:VEVENT
DTSTART;TZID=America/New_York:20260527T130000
DTEND;TZID=America/New_York:20260527T173000
DTSTAMP:20260423T114415
CREATED:20260423T125616Z
LAST-MODIFIED:20260423T125616Z
UID:10001753-1779886800-1779903000@www.marshillnetwork.org
SUMMARY:Homeschool Book Sale
DESCRIPTION:7th Annual Homeschool Book Sale\, including a Creative Youth Sale\, too! Only $2 to shop. \nBooks are sorted by grade and subject to make it easier for shoppers!\nHeld at Lafayette Alliance Church\, Lafayette\,NY. \nRegister to sell books or be a youth seller at cnyhomeschoolsale@gmail.com \nWe will send out the seller document. Let’s make this an amazing sale! Spread the word! At this sale\, all the books are presorted by grade and subject. Shoppers can quickly find all the biology books\, all the grade math curriculums\, or whatever they are looking for! Enjoy!
URL:https://www.marshillnetwork.org/events/homeschool-book-sale/
LOCATION:LaFayette Alliance Church\, 6069 Cherry Valley Turnpike\, LaFayette\, NY\, 13084\, United States
CATEGORIES:Other
ATTACH;FMTTYPE=image/jpeg:https://www.marshillnetwork.org/wp-content/uploads/2026/04/FB_IMG_-book-sale-1771598688884.jpg
ORGANIZER;CN="Homeschool Book Sale Lafayette":MAILTO:cnyhomeschoolsale@gmail.com
END:VEVENT
BEGIN:VEVENT
DTSTART;TZID=America/New_York:20260523T100000
DTEND;TZID=America/New_York:20260523T140000
DTSTAMP:20260423T114415
CREATED:20250929T130227Z
LAST-MODIFIED:20250929T130227Z
UID:10000843-1779530400-1779544800@www.marshillnetwork.org
SUMMARY:2nd Chance Shop
DESCRIPTION:Palermo Community Church has the 2nd Chance Shoppe open every Saturday from 10am-2pm. Clothing in every size as well as household items and craft supplies. For further information call 315-591-4468.
URL:https://www.marshillnetwork.org/events/2nd-chance-shop/2026-05-23/
LOCATION:Palermo Community Church\, 11 County Route 35\, Fulton\, NY\, 13069\, United States
ORGANIZER;CN="Palermo Community Church":MAILTO:PalermoCommunityChurch@gmail.com
END:VEVENT
BEGIN:VEVENT
DTSTART;TZID=America/New_York:20260520T190000
DTEND;TZID=America/New_York:20260520T200000
DTSTAMP:20260423T114415
CREATED:20251201T140658Z
LAST-MODIFIED:20251203T141839Z
UID:10001358-1779303600-1779307200@www.marshillnetwork.org
SUMMARY:Wednesday Evening Church at Meridian Baptist Church
DESCRIPTION:Mid-week services are starting at Meridian Baptist Church Meridian NY . Music\, Praise and the Word starting on December 3rd at 7pm
URL:https://www.marshillnetwork.org/events/wednesday-evening-church-at-meridian-baptist-church/2026-05-20/
LOCATION:Meridian Baptist Church\, NY-370\, Meridian\, NY\, 13113\, United States
ATTACH;FMTTYPE=image/png:https://www.marshillnetwork.org/wp-content/uploads/2025/11/evening-church-sign.png
END:VEVENT
BEGIN:VEVENT
DTSTART;TZID=America/New_York:20260516T100000
DTEND;TZID=America/New_York:20260516T140000
DTSTAMP:20260423T114415
CREATED:20250929T130227Z
LAST-MODIFIED:20250929T130227Z
UID:10000842-1778925600-1778940000@www.marshillnetwork.org
SUMMARY:2nd Chance Shop
DESCRIPTION:Palermo Community Church has the 2nd Chance Shoppe open every Saturday from 10am-2pm. Clothing in every size as well as household items and craft supplies. For further information call 315-591-4468.
URL:https://www.marshillnetwork.org/events/2nd-chance-shop/2026-05-16/
LOCATION:Palermo Community Church\, 11 County Route 35\, Fulton\, NY\, 13069\, United States
ORGANIZER;CN="Palermo Community Church":MAILTO:PalermoCommunityChurch@gmail.com
END:VEVENT
BEGIN:VEVENT
DTSTART;TZID=America/New_York:20260516T100000
DTEND;TZID=America/New_York:20260516T120000
DTSTAMP:20260423T114415
CREATED:20260409T150257Z
LAST-MODIFIED:20260409T150352Z
UID:10001749-1778925600-1778932800@www.marshillnetwork.org
SUMMARY:Living Faith Bible Church Women's Conference
DESCRIPTION:Living Fath Bible Church Women’s Ministries is hosting an event.\nDaughters of the King of Kings\nWomen’s Conference\nAt Living Faith Bible Church\n2922 Oneida Street\nSauquoit\, NY 13456\n315-737-5075\nThe topic is: Godliness and Carnality in the Christian Woman\nGuest Speaker: Pastor Brenda Brucker from Steuben Community Church\nMay 16\, 2026 at 10 am\nThere will be a luncheon to follow.\nThere is no charge for the conference but a free will offering will be received.
URL:https://www.marshillnetwork.org/events/living-faith-bible-church-womens-conference/
LOCATION:Living Faith Bible Church Sauquoit\, NY\, 2922 Oneida Street\, Sauquoit\, NY\, United States
CATEGORIES:Recurring Events/Meetings
ORGANIZER;CN="Living Faith Bible Church Sauquoit%2C NY":MAILTO:jackierice65@gmail.com
END:VEVENT
BEGIN:VEVENT
DTSTART;TZID=America/New_York:20260513T190000
DTEND;TZID=America/New_York:20260513T200000
DTSTAMP:20260423T114415
CREATED:20251201T140658Z
LAST-MODIFIED:20251203T141839Z
UID:10001357-1778698800-1778702400@www.marshillnetwork.org
SUMMARY:Wednesday Evening Church at Meridian Baptist Church
DESCRIPTION:Mid-week services are starting at Meridian Baptist Church Meridian NY . Music\, Praise and the Word starting on December 3rd at 7pm
URL:https://www.marshillnetwork.org/events/wednesday-evening-church-at-meridian-baptist-church/2026-05-13/
LOCATION:Meridian Baptist Church\, NY-370\, Meridian\, NY\, 13113\, United States
ATTACH;FMTTYPE=image/png:https://www.marshillnetwork.org/wp-content/uploads/2025/11/evening-church-sign.png
END:VEVENT
BEGIN:VEVENT
DTSTART;TZID=America/New_York:20260509T163000
DTEND;TZID=America/New_York:20260509T180000
DTSTAMP:20260423T114415
CREATED:20260414T165252Z
LAST-MODIFIED:20260414T165252Z
UID:10001752-1778344200-1778349600@www.marshillnetwork.org
SUMMARY:Drive-Thru Chicken & Biscuit Dinner
DESCRIPTION:This delicious chicken dinner will include homemade biscuits\, mashed potatoes and gravy\, fresh cooked vegetables\, and dessert. $15.00 for ALL adults. $6.00 for children under 10.\n(We apologize but we cannot accept credit cards).Serving will be from 4:30 P.M. through approximately 6:00 P.M. The church is located at 6865 Fly Road in Collamer (East Syracuse)\, just South of the intersection of Fly Road and Route 298 (about 2 miles East of Carrier Circle\, or take Exit 7 off from Route 481).
URL:https://www.marshillnetwork.org/events/drive-thru-chicken-biscuit-dinner-3/
LOCATION:Collamer United Church\, 6865 Fly Rd\, Collamer\, NY\, 13057\, United States
CATEGORIES:Other
ATTACH;FMTTYPE=image/png:https://www.marshillnetwork.org/wp-content/uploads/2026/04/CB-Dinner-Picture.png
ORGANIZER;CN="Collamer United Church":MAILTO:collamerunitedchurch@verizon.net
END:VEVENT
BEGIN:VEVENT
DTSTART;TZID=America/New_York:20260509T100000
DTEND;TZID=America/New_York:20260509T140000
DTSTAMP:20260423T114415
CREATED:20250929T130227Z
LAST-MODIFIED:20250929T130227Z
UID:10000841-1778320800-1778335200@www.marshillnetwork.org
SUMMARY:2nd Chance Shop
DESCRIPTION:Palermo Community Church has the 2nd Chance Shoppe open every Saturday from 10am-2pm. Clothing in every size as well as household items and craft supplies. For further information call 315-591-4468.
URL:https://www.marshillnetwork.org/events/2nd-chance-shop/2026-05-09/
LOCATION:Palermo Community Church\, 11 County Route 35\, Fulton\, NY\, 13069\, United States
ORGANIZER;CN="Palermo Community Church":MAILTO:PalermoCommunityChurch@gmail.com
END:VEVENT
BEGIN:VEVENT
DTSTART;TZID=America/New_York:20260508T183000
DTEND;TZID=America/New_York:20260508T200000
DTSTAMP:20260423T114415
CREATED:20260423T125821Z
LAST-MODIFIED:20260423T125821Z
UID:10001755-1778265000-1778270400@www.marshillnetwork.org
SUMMARY:Palermo Community Church Women's Community Dinner
DESCRIPTION:Palermo Community Church warmly invites all women in the community to attend a special Women’s Community Dinner on Thursday\, May 8th at 6:30 PM at Palermo Community Church. This gathering is being held in celebration of Mother’s Day and aims to bring women of all ages together for an evening of fellowship\, encouragement\, and connection.\nThe event is open to all women\, whether they are mothers\, daughters\, friends\, or neighbors. Guests will gather at 6:30 PM on May 8th at Palermo Community Church to enjoy a shared meal in a welcoming and relaxed environment designed to foster meaningful conversation and community. Attendees are asked to bring a dish to pass. Following dinner\, guests will be treated to a special time of entertainment as two young ladies share their musical talents.\n“We are excited to host this evening dedicated to celebrating and honoring women\,” said a representative from Palermo Community Church. “Mother’s Day is a time to reflect on love\, strength\, and care\, and we want to create a space where all women feel valued and appreciated. We invite women from across the area to join us on May 8th at 6:30 PM for dinner\, fellowship\, and a wonderful time of music.” Men and boys are invited to help serve and you will get to eat as well.\nThere is no cost to attend\, and no prior registration is required. Women are encouraged to come as they are and are welcome to bring a friend to this special Mother’s Day–themed gathering at Palermo Community Church.\nFor more information\, please contact Palermo Community Church.\n315-498-0000 \nSubmitted by: Ginny Chawgo\nPhone: 315-591-4468
URL:https://www.marshillnetwork.org/events/palermo-community-church-womens-community-dinner/
LOCATION:Palermo Community Church\, 11 County Route 35\, Fulton\, NY\, 13069\, United States
END:VEVENT
BEGIN:VEVENT
DTSTART;TZID=America/New_York:20260508T110000
DTEND;TZID=America/New_York:20260508T140000
DTSTAMP:20260423T114415
CREATED:20260406T124912Z
LAST-MODIFIED:20260406T124912Z
UID:10001741-1778238000-1778248800@www.marshillnetwork.org
SUMMARY:Blessed Hope Ladies Luncheon
DESCRIPTION:LeTourneau Christian Center’s Blessed Hope May Ladies Luncheon will be held on Friday\, May 8 from 11 AM – 2 PM. Our speaker this month is NY Times best-selling author\, speaker and podcaster Jill Kelly. Program and lunch are $18. Registration and pre-payment required by 5:00 PM Friday\, May 1 which can be made by calling 585-554-3400. \nLeTourneau Christian Center is located at 4950 East Lake Road\, Rushville.
URL:https://www.marshillnetwork.org/events/blessed-hope-ladies-luncheon-8/
LOCATION:LeTourneau Christian Center
ATTACH;FMTTYPE=image/png:https://www.marshillnetwork.org/wp-content/uploads/2026/04/Standard-Logo.png
ORGANIZER;CN="Shane Collins":MAILTO:office@letourneau.org
END:VEVENT
BEGIN:VEVENT
DTSTART;TZID=America/New_York:20260507T180000
DTEND;TZID=America/New_York:20260507T210000
DTSTAMP:20260423T114415
CREATED:20260312T125928Z
LAST-MODIFIED:20260312T125928Z
UID:10001722-1778176800-1778187600@www.marshillnetwork.org
SUMMARY:Night of Repentance
DESCRIPTION:The eleventh annual Night of Repentance is scheduled for the National Day of Prayer\, May 7\, 2026\, at 6:00 p.m. at Auburn Public Theater\, eight Exchange Street\, Auburn\, New York. Reclaiming the nation starts with repentance. 2 Chronicles 7:14. We regret that we are unable to provide childcare.
URL:https://www.marshillnetwork.org/events/night-of-repentance/
LOCATION:Auburn Public Theater\, 8 Exchange St\, Auburn\, NY\, 13021\, United States
CATEGORIES:National Day of Prayer Service/Event
ATTACH;FMTTYPE=image/jpeg:https://www.marshillnetwork.org/wp-content/uploads/2026/03/Night-of-Repentance-2026.jpg
ORGANIZER;CN="EPIC Prayer":MAILTO:epicprayer@proton.me
END:VEVENT
BEGIN:VEVENT
DTSTART;TZID=America/New_York:20260507T163000
DTEND;TZID=America/New_York:20260507T180000
DTSTAMP:20260423T114415
CREATED:20260423T125725Z
LAST-MODIFIED:20260423T125725Z
UID:10001754-1778171400-1778176800@www.marshillnetwork.org
SUMMARY:Palermo Church Chicken & Biscuit Dinner
DESCRIPTION:Chicken & Biscuit Dinner Dinners Return for the Spring \nThe Palermo Church will be hosting its famous Chicken & Biscuit Dinner on Thursday\, May 7\, 2026\, beginning at 4:30 pm until sold out. This dinner will be served both Dine In and Drive Thru. The Drive Thru will be served from the upper church parking lot. In person dinning will be on the lower level in the dining room. For Drive Thru we ask that cars be lined up on the church side of the road entering the parking lot from the north. If you are coming from the south. please proceed to the Palermo Town Hall parking lot to loop around to be on the right side of the road. \nDinner will include generous portions of chicken and gravy\, two jumbo biscuits\, mashed potatoes\, a vegetable\, coleslaw and dessert. \nAdult dinners are $10.00\, children age 6 through 12 are $6.00\, and children age 5 and under are free. Drive through dinners will be $1.00 more. Please follow the parking attendant and stay in your vehicle and the dinners will be delivered to you. \nOur last Spring dinner will be June 4th. \nThe church is located at 11 County Route 35\, just off of State Route 3 in Palermo\, just north of Palermo Center. \nSubmitted by Tammie Nipper\, Pastor\nChurch office phone number is 315-591-0487
URL:https://www.marshillnetwork.org/events/palermo-church-chicken-biscuit-dinner-5/
LOCATION:Palermo Church\, 11 County Route 35\, Fulton\, NY\, 13069\, United States
END:VEVENT
BEGIN:VEVENT
DTSTART;TZID=America/New_York:20260506T190000
DTEND;TZID=America/New_York:20260506T200000
DTSTAMP:20260423T114415
CREATED:20251201T140658Z
LAST-MODIFIED:20251203T141839Z
UID:10001356-1778094000-1778097600@www.marshillnetwork.org
SUMMARY:Wednesday Evening Church at Meridian Baptist Church
DESCRIPTION:Mid-week services are starting at Meridian Baptist Church Meridian NY . Music\, Praise and the Word starting on December 3rd at 7pm
URL:https://www.marshillnetwork.org/events/wednesday-evening-church-at-meridian-baptist-church/2026-05-06/
LOCATION:Meridian Baptist Church\, NY-370\, Meridian\, NY\, 13113\, United States
ATTACH;FMTTYPE=image/png:https://www.marshillnetwork.org/wp-content/uploads/2025/11/evening-church-sign.png
END:VEVENT
BEGIN:VEVENT
DTSTART;TZID=America/New_York:20260503T100000
DTEND;TZID=America/New_York:20260503T140000
DTSTAMP:20260423T114415
CREATED:20260305T140357Z
LAST-MODIFIED:20260305T140357Z
UID:10001720-1777802400-1777816800@www.marshillnetwork.org
SUMMARY:Parkview Color Run
DESCRIPTION:The Parkview Color Run is an event PERFECT for the whole family including veteran runners as well as those just beginning their fitness journey. The run consists of 3 loops around Burnet Park for a total distance of 3 kilometers. The course is very safe–closed to traffic with lots of supervision. Walk or run and be prepared to get messy as our color bombers douse participants with non-toxic\, food-grade color dust. The Color Run is a fundraiser for Parkview Junior Academy\, a Christian grade school located across the street from Burnet Park.
URL:https://www.marshillnetwork.org/events/parkview-color-run/
LOCATION:Burnet Park\, 577 Burnet Park Dr\, Syracuse\, NY\, 13204\, United States
CATEGORIES:Other
ATTACH;FMTTYPE=image/jpeg:https://www.marshillnetwork.org/wp-content/uploads/2026/03/color-1229859_960_720.jpg
ORGANIZER;CN="Parkview Junior Academy":MAILTO:greeneggsnhamm35@yahoo.com
END:VEVENT
BEGIN:VEVENT
DTSTART;TZID=America/New_York:20260502T100000
DTEND;TZID=America/New_York:20260502T140000
DTSTAMP:20260423T114415
CREATED:20250929T130227Z
LAST-MODIFIED:20250929T130227Z
UID:10000840-1777716000-1777730400@www.marshillnetwork.org
SUMMARY:2nd Chance Shop
DESCRIPTION:Palermo Community Church has the 2nd Chance Shoppe open every Saturday from 10am-2pm. Clothing in every size as well as household items and craft supplies. For further information call 315-591-4468.
URL:https://www.marshillnetwork.org/events/2nd-chance-shop/2026-05-02/
LOCATION:Palermo Community Church\, 11 County Route 35\, Fulton\, NY\, 13069\, United States
ORGANIZER;CN="Palermo Community Church":MAILTO:PalermoCommunityChurch@gmail.com
END:VEVENT
END:VCALENDAR