BEGIN:VCALENDAR
VERSION:2.0
PRODID:-//Mars Hill Network - ECPv6.15.20//NONSGML v1.0//EN
CALSCALE:GREGORIAN
METHOD:PUBLISH
X-ORIGINAL-URL:https://www.marshillnetwork.org
X-WR-CALDESC:Events for Mars Hill Network
REFRESH-INTERVAL;VALUE=DURATION:PT1H
X-Robots-Tag:noindex
X-PUBLISHED-TTL:PT1H
BEGIN:VTIMEZONE
TZID:America/New_York
BEGIN:DAYLIGHT
TZOFFSETFROM:-0500
TZOFFSETTO:-0400
TZNAME:EDT
DTSTART:20240310T070000
END:DAYLIGHT
BEGIN:STANDARD
TZOFFSETFROM:-0400
TZOFFSETTO:-0500
TZNAME:EST
DTSTART:20241103T060000
END:STANDARD
BEGIN:DAYLIGHT
TZOFFSETFROM:-0500
TZOFFSETTO:-0400
TZNAME:EDT
DTSTART:20250309T070000
END:DAYLIGHT
BEGIN:STANDARD
TZOFFSETFROM:-0400
TZOFFSETTO:-0500
TZNAME:EST
DTSTART:20251102T060000
END:STANDARD
BEGIN:DAYLIGHT
TZOFFSETFROM:-0500
TZOFFSETTO:-0400
TZNAME:EDT
DTSTART:20260308T070000
END:DAYLIGHT
BEGIN:STANDARD
TZOFFSETFROM:-0400
TZOFFSETTO:-0500
TZNAME:EST
DTSTART:20261101T060000
END:STANDARD
END:VTIMEZONE
BEGIN:VEVENT
DTSTART;TZID=America/New_York:20251206T090000
DTEND;TZID=America/New_York:20251206T160000
DTSTAMP:20260422T131731
CREATED:20251126T143822Z
LAST-MODIFIED:20251126T143822Z
UID:10001327-1765011600-1765036800@www.marshillnetwork.org
SUMMARY:Christmas Nu 2 U and Christmas Cookie Sale
DESCRIPTION:Delicious homemade cookies will be available for sale by the pound. The Nu 2 U sale will feature Christmas new and gently used decorations\, clothing\, dishes\, books and items perfect for gift giving. \nA portion of the proceeds will be used to buy food and toys for several families at Christmas. \nAnyone wishing to donate used Christmas items may do so on December 4 and 5 from 9:00 to 11:30 a.m. or call the church for arrangements. Please use the East Utica entrance as the sale is downstairs. \nTrinity UMC is located at 45 East Utica Street\, corner of East 4th and Utica\, Oswego. Everyone is welcome to attend in person worship on Sunday starting at 11 a.m. For further information\, please call and leave a message at (315) 343-1715 or visit https://www.facebook.com/OswegoNYTrinityUMC.
URL:https://www.marshillnetwork.org/events/christmas-nu-2-u-and-christmas-cookie-sale/
LOCATION:Oswego Trinity United Methodist Church\, 45 East Utica St.\, Oswego\, NY\, 13126\, United States
CATEGORIES:Christmas Season
ATTACH;FMTTYPE=image/jpeg:https://www.marshillnetwork.org/wp-content/uploads/2025/11/nu2u.-Christmas-Cookie-Sale.-12.6.2025.Flyer_page-0001.jpg
ORGANIZER;CN="Oswego Trinity United Methodist Church":MAILTO:oswegotrinityumc@gmail.com
END:VEVENT
END:VCALENDAR