BEGIN:VCALENDAR
VERSION:2.0
PRODID:-//Mars Hill Network - ECPv6.15.20//NONSGML v1.0//EN
CALSCALE:GREGORIAN
METHOD:PUBLISH
X-WR-CALNAME:Mars Hill Network
X-ORIGINAL-URL:https://www.marshillnetwork.org
X-WR-CALDESC:Events for Mars Hill Network
REFRESH-INTERVAL;VALUE=DURATION:PT1H
X-Robots-Tag:noindex
X-PUBLISHED-TTL:PT1H
BEGIN:VTIMEZONE
TZID:America/New_York
BEGIN:DAYLIGHT
TZOFFSETFROM:-0500
TZOFFSETTO:-0400
TZNAME:EDT
DTSTART:20240310T070000
END:DAYLIGHT
BEGIN:STANDARD
TZOFFSETFROM:-0400
TZOFFSETTO:-0500
TZNAME:EST
DTSTART:20241103T060000
END:STANDARD
BEGIN:DAYLIGHT
TZOFFSETFROM:-0500
TZOFFSETTO:-0400
TZNAME:EDT
DTSTART:20250309T070000
END:DAYLIGHT
BEGIN:STANDARD
TZOFFSETFROM:-0400
TZOFFSETTO:-0500
TZNAME:EST
DTSTART:20251102T060000
END:STANDARD
BEGIN:DAYLIGHT
TZOFFSETFROM:-0500
TZOFFSETTO:-0400
TZNAME:EDT
DTSTART:20260308T070000
END:DAYLIGHT
BEGIN:STANDARD
TZOFFSETFROM:-0400
TZOFFSETTO:-0500
TZNAME:EST
DTSTART:20261101T060000
END:STANDARD
END:VTIMEZONE
BEGIN:VEVENT
DTSTART;TZID=America/New_York:20251030T140000
DTEND;TZID=America/New_York:20251102T140000
DTSTAMP:20260425T210745
CREATED:20250908T132229Z
LAST-MODIFIED:20250908T132229Z
UID:10000257-1761832800-1762092000@www.marshillnetwork.org
SUMMARY:Scrap\, Craft & Quilt Fall Retreat
DESCRIPTION:Join LeTourneau Christian Center\, Thursday\, October 30th – Sunday\, November 2\, 2025\, for our Fall Scrap\, Craft & Quilt Retreat. We are excited to provide an opportunity for ladies to come and enjoy time dedicated to quilting\, scrapbooking\, or other crafting hobbies. In addition\, this retreat will include fellowship with others\, delicious meals\, comfortable lodging\, and a spiritual emphasis that we pray will encourage and strengthen your faith.
URL:https://www.marshillnetwork.org/events/scrap-craft-quilt-fall-retreat/
LOCATION:LeTourneau Christian Center
ATTACH;FMTTYPE=image/png:https://www.marshillnetwork.org/wp-content/uploads/2025/09/Fall-Scrap-Craft-Quilt-.png
END:VEVENT
END:VCALENDAR