BEGIN:VCALENDAR
VERSION:2.0
PRODID:-//Mars Hill Network - ECPv6.15.20//NONSGML v1.0//EN
CALSCALE:GREGORIAN
METHOD:PUBLISH
X-WR-CALNAME:Mars Hill Network
X-ORIGINAL-URL:https://www.marshillnetwork.org
X-WR-CALDESC:Events for Mars Hill Network
REFRESH-INTERVAL;VALUE=DURATION:PT1H
X-Robots-Tag:noindex
X-PUBLISHED-TTL:PT1H
BEGIN:VTIMEZONE
TZID:America/New_York
BEGIN:DAYLIGHT
TZOFFSETFROM:-0500
TZOFFSETTO:-0400
TZNAME:EDT
DTSTART:20240310T070000
END:DAYLIGHT
BEGIN:STANDARD
TZOFFSETFROM:-0400
TZOFFSETTO:-0500
TZNAME:EST
DTSTART:20241103T060000
END:STANDARD
BEGIN:DAYLIGHT
TZOFFSETFROM:-0500
TZOFFSETTO:-0400
TZNAME:EDT
DTSTART:20250309T070000
END:DAYLIGHT
BEGIN:STANDARD
TZOFFSETFROM:-0400
TZOFFSETTO:-0500
TZNAME:EST
DTSTART:20251102T060000
END:STANDARD
BEGIN:DAYLIGHT
TZOFFSETFROM:-0500
TZOFFSETTO:-0400
TZNAME:EDT
DTSTART:20260308T070000
END:DAYLIGHT
BEGIN:STANDARD
TZOFFSETFROM:-0400
TZOFFSETTO:-0500
TZNAME:EST
DTSTART:20261101T060000
END:STANDARD
END:VTIMEZONE
BEGIN:VEVENT
DTSTART;TZID=America/New_York:20251025T070000
DTEND;TZID=America/New_York:20251025T190000
DTSTAMP:20260422T105032
CREATED:20250918T130721Z
LAST-MODIFIED:20250918T130721Z
UID:10000306-1761375600-1761418800@www.marshillnetwork.org
SUMMARY:40 Days for Life fall campaign
DESCRIPTION:An international organization that campaigns against abortion by peacefully praying in front of abortion facilities.
URL:https://www.marshillnetwork.org/events/40-days-for-life-fall-campaign/2025-10-25/
LOCATION:160 Stone Street\,Watertown\, NY
ATTACH;FMTTYPE=image/jpeg:https://www.marshillnetwork.org/wp-content/uploads/2025/09/1000008317-scaled.jpg
ORGANIZER;CN="40 Days for Life":MAILTO:Syracuse40daysforlife@gmail.com
END:VEVENT
BEGIN:VEVENT
DTSTART;TZID=America/New_York:20251025T090000
DTEND;TZID=America/New_York:20251025T130000
DTSTAMP:20260422T105032
CREATED:20250825T130921Z
LAST-MODIFIED:20250825T130921Z
UID:10000256-1761382800-1761397200@www.marshillnetwork.org
SUMMARY:Davis Sports Facility Grand Opening
DESCRIPTION:You’re Invited!\nGrand Opening of the Davis Sports Facility at LeTourneau Christian Center\nSaturday\, October 25th\, 2025 \nCome celebrate with us! Whether you’re running in the Davis Dash 5K\, cheering from the sidelines\, or just here for the food\, fun\, and to see the new space\, there’s something for everyone. \n9:00 AM – Registration Opens\n10:00 AM – Davis Dash 5K Start\n11:00 AM – BBQ Meal Pickup (first option for runners/walkers)\n11:30 AM – Ribbon-Cutting Ceremony\n12:00 PM – BBQ Meal Pickup (second option)\n12:00–1:00 PM – Facility Tours & Light Refreshments
URL:https://www.marshillnetwork.org/events/davis-sports-facility-grand-opening/
LOCATION:LeTourneau Christian Center
ATTACH;FMTTYPE=image/jpeg:https://www.marshillnetwork.org/wp-content/uploads/2025/08/Davis-Sports-facility-Update-Letter-Facebook-Post-537b09f62c401ddcb579878dab3691bf.jpg
END:VEVENT
BEGIN:VEVENT
DTSTART;TZID=America/New_York:20251025T090000
DTEND;TZID=America/New_York:20251025T160000
DTSTAMP:20260422T105032
CREATED:20250912T131302Z
LAST-MODIFIED:20250912T131302Z
UID:10000267-1761382800-1761408000@www.marshillnetwork.org
SUMMARY:Christian Life in an Ever-Changing World | Conference
DESCRIPTION:How do we navigate Christian life in an increasingly post-Christian world? How should we think about and even use controversial cultural issues that inevitably surface in everyday conversations as an opportunity to bear witness to Christ? Join us for our one-day conference on Christian Life in an Ever-Changing World\, a day of fruitful teaching and conversation about faithfully navigating the challenges of our rapidly shifting culture. \nThis day will equip you to…\n— Root your understanding of difficult issues in Scripture.\n— Understand different foundational assumptions from which people make decisions and live.\n— Develop skills for meaningful conversations about charged topics. \nWe will specifically address transgender issues\, IVF\, end-of-life decisions and euthanasia\, and the challenges and opportunities of AI. \nOur time will be led by Dan Trippie\, Founder and Director of The Center for Christian Thought & Ethics. Dan Trippie is a native of Buffalo\, NY. He holds a Ph.D. in ethics from Southeastern Baptist Theological Seminary and an M.Div. from The Southern Baptist Theological Seminary. Dan’s focus is on public theology with a special emphasis on religious freedom. \nHosted by Covenant Church and The Center for Christian Thought & Ethics.
URL:https://www.marshillnetwork.org/events/christian-life-in-an-ever-changing-world-conference/
LOCATION:Covenant Church\, 36 Oswego Street\, Baldwinsville\, N\, 13027\, United States
CATEGORIES:Other
ATTACH;FMTTYPE=image/png:https://www.marshillnetwork.org/wp-content/uploads/2025/09/Christian-Life-in-an-Ever-Changing-World-.-web-header-scaled.png
ORGANIZER;CN="Covenant Church":MAILTO:info@covenant315.org
END:VEVENT
BEGIN:VEVENT
DTSTART;TZID=America/New_York:20251025T100000
DTEND;TZID=America/New_York:20251025T140000
DTSTAMP:20260422T105032
CREATED:20250917T124412Z
LAST-MODIFIED:20250917T124412Z
UID:10000278-1761386400-1761400800@www.marshillnetwork.org
SUMMARY:2025 Fall Bible Conference: THE LORDSHIP OF CHRIST AND CULTURE
DESCRIPTION:How are we as Christians to faithfully impact our culture with the claims of the Lordship of Jesus Christ? Join us at our 20th Annual Fall Bible Conference co-sponsored by Ezra Institute and Sovereign Grace Church of Hornell. Rev. Dr. Joseph Boot\, founder of Ezra Institute and international speaker\, apologist and author of “The Mission of God: A Manifesto of Hope for Society” will be the featured speaker. He will explore the biblical perspective on challenging cultural issues\, demonstrating the abiding validity and authority of the whole Word of God for every aspect of life. This impactful 3-day conference is designed to challenge\, equip and inspire believers to boldly apply biblical truth to all areas of life. Registration includes admission to all sessions and a special Q&A buffet luncheon on Saturday. Learn more and register at https://www.ezrainstitute.com/fall-bible-conference.
URL:https://www.marshillnetwork.org/events/2025-fall-bible-conference-the-lordship-of-christ-and-culture/2025-10-25/
LOCATION:Big Tree Inn Event Hall\, 46 Main Street\, Geneseo\, N\, 14454\, United States
ATTACH;FMTTYPE=image/jpeg:https://www.marshillnetwork.org/wp-content/uploads/2025/09/2025-Bible-Conference-Poster.jpg
ORGANIZER;CN="Sovereign Grace Church":MAILTO:janderson16@stny.rr.com
END:VEVENT
BEGIN:VEVENT
DTSTART;TZID=America/New_York:20251025T100000
DTEND;TZID=America/New_York:20251025T140000
DTSTAMP:20260422T105032
CREATED:20250929T130227Z
LAST-MODIFIED:20250929T130227Z
UID:10000813-1761386400-1761400800@www.marshillnetwork.org
SUMMARY:2nd Chance Shop
DESCRIPTION:Palermo Community Church has the 2nd Chance Shoppe open every Saturday from 10am-2pm. Clothing in every size as well as household items and craft supplies. For further information call 315-591-4468.
URL:https://www.marshillnetwork.org/events/2nd-chance-shop/2025-10-25/
LOCATION:Palermo Community Church\, 11 County Route 35\, Fulton\, NY\, 13069\, United States
ORGANIZER;CN="Palermo Community Church":MAILTO:PalermoCommunityChurch@gmail.com
END:VEVENT
BEGIN:VEVENT
DTSTART;TZID=America/New_York:20251025T190000
DTEND;TZID=America/New_York:20251025T203000
DTSTAMP:20260422T105032
CREATED:20251013T164922Z
LAST-MODIFIED:20251013T164922Z
UID:10001176-1761418800-1761424200@www.marshillnetwork.org
SUMMARY:Christian Choristers
DESCRIPTION:National Men’s gospel choir coming to the Apostolic Christian Church for two concerts\, Saturday October 25th at 7:00pm and Sunday October 26th at 11:00am on 5081 Ball Road\, Syracuse\, NY 13215. It will be a time of rejoicing\, praising our Lord and Savior. It is a free concert and all are welcome.
URL:https://www.marshillnetwork.org/events/christian-choristers/2025-10-25/
LOCATION:Apostolic Christian Church\, 5081 Ball Road\, Syracuse\, NY\, 13215\, United States
END:VEVENT
END:VCALENDAR