BEGIN:VCALENDAR
VERSION:2.0
PRODID:-//Mars Hill Network - ECPv6.15.20//NONSGML v1.0//EN
CALSCALE:GREGORIAN
METHOD:PUBLISH
X-WR-CALNAME:Mars Hill Network
X-ORIGINAL-URL:https://www.marshillnetwork.org
X-WR-CALDESC:Events for Mars Hill Network
REFRESH-INTERVAL;VALUE=DURATION:PT1H
X-Robots-Tag:noindex
X-PUBLISHED-TTL:PT1H
BEGIN:VTIMEZONE
TZID:America/New_York
BEGIN:DAYLIGHT
TZOFFSETFROM:-0500
TZOFFSETTO:-0400
TZNAME:EDT
DTSTART:20240310T070000
END:DAYLIGHT
BEGIN:STANDARD
TZOFFSETFROM:-0400
TZOFFSETTO:-0500
TZNAME:EST
DTSTART:20241103T060000
END:STANDARD
BEGIN:DAYLIGHT
TZOFFSETFROM:-0500
TZOFFSETTO:-0400
TZNAME:EDT
DTSTART:20250309T070000
END:DAYLIGHT
BEGIN:STANDARD
TZOFFSETFROM:-0400
TZOFFSETTO:-0500
TZNAME:EST
DTSTART:20251102T060000
END:STANDARD
BEGIN:DAYLIGHT
TZOFFSETFROM:-0500
TZOFFSETTO:-0400
TZNAME:EDT
DTSTART:20260308T070000
END:DAYLIGHT
BEGIN:STANDARD
TZOFFSETFROM:-0400
TZOFFSETTO:-0500
TZNAME:EST
DTSTART:20261101T060000
END:STANDARD
END:VTIMEZONE
BEGIN:VEVENT
DTSTART;TZID=America/New_York:20251023T070000
DTEND;TZID=America/New_York:20251023T190000
DTSTAMP:20260423T002019
CREATED:20250918T130721Z
LAST-MODIFIED:20250918T130721Z
UID:10000304-1761202800-1761246000@www.marshillnetwork.org
SUMMARY:40 Days for Life fall campaign
DESCRIPTION:An international organization that campaigns against abortion by peacefully praying in front of abortion facilities.
URL:https://www.marshillnetwork.org/events/40-days-for-life-fall-campaign/2025-10-23/
LOCATION:160 Stone Street\,Watertown\, NY
ATTACH;FMTTYPE=image/jpeg:https://www.marshillnetwork.org/wp-content/uploads/2025/09/1000008317-scaled.jpg
ORGANIZER;CN="40 Days for Life":MAILTO:Syracuse40daysforlife@gmail.com
END:VEVENT
BEGIN:VEVENT
DTSTART;TZID=America/New_York:20251023T163000
DTEND;TZID=America/New_York:20251023T173000
DTSTAMP:20260423T002019
CREATED:20250205T151732Z
LAST-MODIFIED:20250305T130401Z
UID:10000098-1761237000-1761240600@www.marshillnetwork.org
SUMMARY:Healthy Eating Support Community Program
DESCRIPTION:Do you struggle to eat healthier? Maybe struggling with binge eating or having trouble coming up with delicious yet nutritious meals to make? At the Healthy Eating Support Community program\, we can help you make healthier choices that will benefit you in the long run – all at the grand cost of $0. This program is holding meetings every other Thursday from 4:30PM to 5:30PM at the Tompkins County Cornell Cooperative Extension\, located at 615 Willow Avenue\, Ithaca\, New York. The meetings will continue every other Thursday. Free to all\, compassion for all\, come join us!
URL:https://www.marshillnetwork.org/events/healthy-eating-support-community-program-2025-02-27/2025-10-23/
LOCATION:Tompkins County Cornell Cooperative Extension\, 615 Willow Avenue\, Ithaca\, NY\, 14850\, United States
END:VEVENT
BEGIN:VEVENT
DTSTART;TZID=America/New_York:20251023T190000
DTEND;TZID=America/New_York:20251023T203000
DTSTAMP:20260423T002019
CREATED:20250917T124412Z
LAST-MODIFIED:20250917T124412Z
UID:10000276-1761246000-1761251400@www.marshillnetwork.org
SUMMARY:2025 Fall Bible Conference: THE LORDSHIP OF CHRIST AND CULTURE
DESCRIPTION:How are we as Christians to faithfully impact our culture with the claims of the Lordship of Jesus Christ? Join us at our 20th Annual Fall Bible Conference co-sponsored by Ezra Institute and Sovereign Grace Church of Hornell. Rev. Dr. Joseph Boot\, founder of Ezra Institute and international speaker\, apologist and author of “The Mission of God: A Manifesto of Hope for Society” will be the featured speaker. He will explore the biblical perspective on challenging cultural issues\, demonstrating the abiding validity and authority of the whole Word of God for every aspect of life. This impactful 3-day conference is designed to challenge\, equip and inspire believers to boldly apply biblical truth to all areas of life. Registration includes admission to all sessions and a special Q&A buffet luncheon on Saturday. Learn more and register at https://www.ezrainstitute.com/fall-bible-conference.
URL:https://www.marshillnetwork.org/events/2025-fall-bible-conference-the-lordship-of-christ-and-culture/2025-10-23/
LOCATION:Big Tree Inn Event Hall\, 46 Main Street\, Geneseo\, N\, 14454\, United States
ATTACH;FMTTYPE=image/jpeg:https://www.marshillnetwork.org/wp-content/uploads/2025/09/2025-Bible-Conference-Poster.jpg
ORGANIZER;CN="Sovereign Grace Church":MAILTO:janderson16@stny.rr.com
END:VEVENT
END:VCALENDAR