BEGIN:VCALENDAR
VERSION:2.0
PRODID:-//Mars Hill Network - ECPv6.15.20//NONSGML v1.0//EN
CALSCALE:GREGORIAN
METHOD:PUBLISH
X-ORIGINAL-URL:https://www.marshillnetwork.org
X-WR-CALDESC:Events for Mars Hill Network
REFRESH-INTERVAL;VALUE=DURATION:PT1H
X-Robots-Tag:noindex
X-PUBLISHED-TTL:PT1H
BEGIN:VTIMEZONE
TZID:America/New_York
BEGIN:DAYLIGHT
TZOFFSETFROM:-0500
TZOFFSETTO:-0400
TZNAME:EDT
DTSTART:20240310T070000
END:DAYLIGHT
BEGIN:STANDARD
TZOFFSETFROM:-0400
TZOFFSETTO:-0500
TZNAME:EST
DTSTART:20241103T060000
END:STANDARD
BEGIN:DAYLIGHT
TZOFFSETFROM:-0500
TZOFFSETTO:-0400
TZNAME:EDT
DTSTART:20250309T070000
END:DAYLIGHT
BEGIN:STANDARD
TZOFFSETFROM:-0400
TZOFFSETTO:-0500
TZNAME:EST
DTSTART:20251102T060000
END:STANDARD
BEGIN:DAYLIGHT
TZOFFSETFROM:-0500
TZOFFSETTO:-0400
TZNAME:EDT
DTSTART:20260308T070000
END:DAYLIGHT
BEGIN:STANDARD
TZOFFSETFROM:-0400
TZOFFSETTO:-0500
TZNAME:EST
DTSTART:20261101T060000
END:STANDARD
END:VTIMEZONE
BEGIN:VEVENT
DTSTART;TZID=America/New_York:20251005T140000
DTEND;TZID=America/New_York:20251005T160000
DTSTAMP:20260419T151512
CREATED:20250922T130159Z
LAST-MODIFIED:20250922T130159Z
UID:10000410-1759672800-1759680000@www.marshillnetwork.org
SUMMARY:“Metropolis” accompanied by Theatre Organist Brett Miller
DESCRIPTION:The Rochester Theater Organ Society kicks off its 62nd concert season with the 1927 silent film classic “Metropolis” accompanied by Brett Miller at the console of the Mighty Wurlitzer theatre organ on Sunday\, October 5th at 2:00 PM at the West Herr Auditorium Theatre. \nAdmission for NON-members is $15 per person. Children 12 and under with an adult\, and students with school ID are always FREE. The Box Office opens at 1:00 PM and the doors open at 1:15 PM. Seating is General Admission\, not reserved. There are no advance ticket sales. \nThe RTOS annual membership fee of only $75 includes FREE admission for you and a guest to eight concerts each year. Visit the RTOS website rtosonline.org or stop by the Membership Table in the lobby for more information including special rates for out-of-town members.
URL:https://www.marshillnetwork.org/events/metropolis-accompanied-by-theatre-organist-brett-miller/
LOCATION:West Herr Auditorium Theatre\, 885 E. Main St.\, Rochester\, NY\, 14605\, United States
ATTACH;FMTTYPE=image/jpeg:https://www.marshillnetwork.org/wp-content/uploads/2025/09/RTOS_Organ_Image.jpg
ORGANIZER;CN="Rochester Theater Organ Society":MAILTO:publicity@rtosonline.org
GEO:43.1607408;-77.5886594
X-APPLE-STRUCTURED-LOCATION;VALUE=URI;X-ADDRESS=West Herr Auditorium Theatre 885 E. Main St. Rochester NY 14605 United States;X-APPLE-RADIUS=500;X-TITLE=885 E. Main St.:geo:-77.5886594,43.1607408
END:VEVENT
BEGIN:VEVENT
DTSTART;TZID=America/New_York:20251005T180000
DTEND;TZID=America/New_York:20251005T210000
DTSTAMP:20260419T151512
CREATED:20250731T151426Z
LAST-MODIFIED:20250731T151426Z
UID:10000213-1759687200-1759698000@www.marshillnetwork.org
SUMMARY:Aspire Women's Event
DESCRIPTION:Aspire Women’s Events is a one-night women’s event full of laughter\, learning & worship with Barb Roose\, Dorie McLemore & Lindsay McCaul taking the stage. 1 Bible Teacher – 1 Comedian – 1 Worship Leader. Come with your churches’ women’s ministry\, family\, friends\, and neighbors! Join us for an amazing ladies’ night out! \nTICKETS: $30.00 GA Individual – $40.00 VIP Reserved Individual – Call for discounted GA & VIP Group Ticket pricing for 10+ call (480) 812-1100. Ticket prices increase at the door. \nASPIRE Women’s Events – http://www.aspirewomensevents.com\nASPIRE by Extreme Faith Productions: We are a non-profit ministry that promotes Christian concerts and events throughout the USA. We are based in Arizona and produce between 100 and 150 events per year. http://www.extremefaithproductions.com.
URL:https://www.marshillnetwork.org/events/aspire-womens-event/
LOCATION:Christ Community Church\, 3644 Warners Road\, Syracuse\, 13209\, United States
ATTACH;FMTTYPE=image/jpeg:https://www.marshillnetwork.org/wp-content/uploads/2025/07/Aspire-Sun-Oct-5-Syracuse-NY-2UP-6a49538efe74fff5db56e6ca5fd4486c.jpg
GEO:43.0568321;-76.2639732
X-APPLE-STRUCTURED-LOCATION;VALUE=URI;X-ADDRESS=Christ Community Church 3644 Warners Road Syracuse 13209 United States;X-APPLE-RADIUS=500;X-TITLE=3644 Warners Road:geo:-76.2639732,43.0568321
END:VEVENT
END:VCALENDAR