BEGIN:VCALENDAR
VERSION:2.0
PRODID:-//Mars Hill Network - ECPv6.15.20//NONSGML v1.0//EN
CALSCALE:GREGORIAN
METHOD:PUBLISH
X-ORIGINAL-URL:https://www.marshillnetwork.org
X-WR-CALDESC:Events for Mars Hill Network
REFRESH-INTERVAL;VALUE=DURATION:PT1H
X-Robots-Tag:noindex
X-PUBLISHED-TTL:PT1H
BEGIN:VTIMEZONE
TZID:America/New_York
BEGIN:DAYLIGHT
TZOFFSETFROM:-0500
TZOFFSETTO:-0400
TZNAME:EDT
DTSTART:20240310T070000
END:DAYLIGHT
BEGIN:STANDARD
TZOFFSETFROM:-0400
TZOFFSETTO:-0500
TZNAME:EST
DTSTART:20241103T060000
END:STANDARD
BEGIN:DAYLIGHT
TZOFFSETFROM:-0500
TZOFFSETTO:-0400
TZNAME:EDT
DTSTART:20250309T070000
END:DAYLIGHT
BEGIN:STANDARD
TZOFFSETFROM:-0400
TZOFFSETTO:-0500
TZNAME:EST
DTSTART:20251102T060000
END:STANDARD
BEGIN:DAYLIGHT
TZOFFSETFROM:-0500
TZOFFSETTO:-0400
TZNAME:EDT
DTSTART:20260308T070000
END:DAYLIGHT
BEGIN:STANDARD
TZOFFSETFROM:-0400
TZOFFSETTO:-0500
TZNAME:EST
DTSTART:20261101T060000
END:STANDARD
END:VTIMEZONE
BEGIN:VEVENT
DTSTART;TZID=America/New_York:20250913T000000
DTEND;TZID=America/New_York:20250913T130000
DTSTAMP:20260424T092104
CREATED:20250908T151525Z
LAST-MODIFIED:20250908T151525Z
UID:10000263-1757721600-1757768400@www.marshillnetwork.org
SUMMARY:Chicken BBQ - Taberg
DESCRIPTION:Lee Community Church is holding a Chicken BBQ on Saturday\, September 13th from noon until it’s gone. \n$15 for half chicken\, homemade baked beans\, mac salad\, roll with butter\, and brownie \nAn extra set of sides for $5
URL:https://www.marshillnetwork.org/events/chicken-bbq-taberg/
LOCATION:Lee Community Church\, 4731 NY 69 Rome Taberg Rd\, Taberg\, NY\, 13471\, United States
END:VEVENT
BEGIN:VEVENT
DTSTART;TZID=America/New_York:20250913T090000
DTEND;TZID=America/New_York:20250913T160000
DTSTAMP:20260424T092104
CREATED:20250912T131345Z
LAST-MODIFIED:20250912T131345Z
UID:10000269-1757754000-1757779200@www.marshillnetwork.org
SUMMARY:Church Nu 2 U & Bake Sale
DESCRIPTION:Trinity United Methodist Church Nu 2 U and Bake Sale is planned for September 12\, 13 and 20 from 9 a.m. to 4 p.m. There will be a wide variety of items for sale; something for everyone\, including delicious homemade baked goods. The Clothing Bag Sale (half-price sale on most other items) starts at 9 a.m. on September 20. Please use the East Utica entrance as the sale is downstairs.\nA portion of the proceeds will be donated to the Human Concerns Food Pantry.\nThe church is located at 45 East Utica Street\, corner of East 4th and Utica\, Oswego. Everyone is welcome to attend in person worship on Sunday starting at 11 a.m. For further information\, please call and leave a message at (315) 343-1715 or visit https://www.facebook.com/OswegoNYTrinityUMC or https://trinityumcoswego.org/.
URL:https://www.marshillnetwork.org/events/church-nu-2-u-bake-sale/2025-09-13/
LOCATION:Oswego Trinity United Methodist Church\, 45 East Utica St.\, Oswego\, NY\, 13126\, United States
ATTACH;FMTTYPE=image/jpeg:https://www.marshillnetwork.org/wp-content/uploads/2025/09/Flyer-TUMC.Sept_.12.13.20.2025.Nu2U-Sale_page-00012.jpg
ORGANIZER;CN="Oswego Trinity United Methodist Church":MAILTO:oswegotrinityumc@gmail.com
END:VEVENT
BEGIN:VEVENT
DTSTART;TZID=America/New_York:20250913T110000
DTEND;TZID=America/New_York:20250913T150000
DTSTAMP:20260424T092104
CREATED:20250908T151133Z
LAST-MODIFIED:20250908T151133Z
UID:10000262-1757761200-1757775600@www.marshillnetwork.org
SUMMARY:Chicken BBQ & Bake Sale - Manlius
DESCRIPTION:Manlius United Methodist Church is holding a Chicken BBQ and Bake Sale on Saturday\, September 13th from 11 a.m. until… \nJoin us for dinner:  $14 dinner\, Seniors $12\, \n1/2 Chicken for $10\, includes 1/2 chicken\, salt potatoes\, coleslaw & roll.
URL:https://www.marshillnetwork.org/events/chicken-bbq-bake-sale-manlius/
LOCATION:Manlius United Methodist Church\, 111 Wesley St\, Manlius\, NY\, 13104\, United States
ATTACH;FMTTYPE=image/jpeg:https://www.marshillnetwork.org/wp-content/uploads/2025/09/BBQ-Sept-2025-332dcec9c242537df28a51fe1f9de9c6.jpg
GEO:43.0026959;-75.9785108
X-APPLE-STRUCTURED-LOCATION;VALUE=URI;X-ADDRESS=Manlius United Methodist Church 111 Wesley St Manlius NY 13104 United States;X-APPLE-RADIUS=500;X-TITLE=111 Wesley St:geo:-75.9785108,43.0026959
END:VEVENT
END:VCALENDAR